Workbook

Sheet Information Sheet
A1: Information and Instructions
A2: Name your inventory as LSLI_NYPWSID#. For example: LSLI_NY1234567
A3: Lead Service Line Inventory Template Workbook
A4: • The Service Line Inventory Template is to be filled out with one row for each service line.
A5: • Columns with headings in blue are required or mandatory entries to be considered complete.
A6: • Headers with an ⓘ symbol will display additional information if clicked on.
A7: • The options for all drop down response columns are listed below.
A8: Inventory Summary Workbook
A9: • Do not fill out Section III, "Summary of Inventory." The section will be automatically filled based on information provided in the LSL Template workbook.
A11: Tabs | B11: Description
A12: Service Line Inventory Template | B12: To be filled out with service line information
A13: Inventory Summary Form | B13: Summary of data from Service Line Inventory Worksheet
A15: Public-side Service Line Information Keys
A16: Lead Gooseneck, Pigtail or Connector Currently Present? | B16: Current Public Side SL Material | C16: Was Public SL Material Ever Previously Lead? | D16: Public SL Material Verification Method | E16: Public SL Size
A17: Yes | B17: Lead including lead-lined galvanized | C17: Yes | D17: Records | E17: Upto 1"
A18: No | B18: Copper | C18: No | D18: Field Inspection | E18: 1" < SL ≤ 1.5"
A19: Unknown | B19: Galvanized | C19: Unknown | D19: Excavation | E19: 1.5" < SL ≤ 2"
B20: Plastic | D20: Sequential Sampling | E20: larger than 2"
B21: Known Other | D21: Statistical Analysis/Predictive Model | E21: unknown
B22: Unknown but could be lead | D22: Other
B23: Unknown but unlikely lead | D23: Not Verified
B24: Unknown
A26: Customer Side Service Line Information Keys
A27: Customer SL Material | B27: Customer SL Material Verification Method | C27: Lead Solder Present? | D27: Building Type | E27: POU or POE Treatment Present? | F27: Customer SL Size
A28: Lead including lead-lined galvanized | B28: Records | C28: Yes | D28: Single Family | E28: Yes | F28: Upto 1"
A29: Copper | B29: Field Inspection | C29: No | D29: Multi Family | E29: No | F29: 1" < SL ≤ 1.5"
A30: Galvanized | B30: Customer Identification with Photo or Other Verification | C30: Unknown | D30: School or Childcare | E30: Unknown | F30: 1.5" < SL ≤ 2"
A31: Plastic | B31: Excavation | D31: Business | F31: larger than 2"
A32: Known Other | B32: Sequential Sampling | D32: Other including Multiuse | F32: unknown
A33: Unknown but could be lead | B33: Statistical Analysis/Predictive Model
A34: Unknown but unlikely lead | B34: Other
A35: Unknown | B35: Not Verified
B37: Entire Service Line Inventory Categories
B38: SL Category
B39: Lead
B40: GSLRR
B41: Non-Lead
B42: Unknown - Lead Status Unknown

Sheet Service Line Inventory Template
A1: Street Address | B1: Town | C1: Zip Code | D1: Lead Gooseneck, Pigtail or Connector Currently Present? | E1: Current Public Side SL Material ⓘ | F1: Was Public SL Material Ever Previously Lead? | G1: Public SL Material Verification Method ⓘ | H1: Public SL Installation or Replacement Date | I1: Public SL Size | J1: Customer SL Material ⓘ | K1: Customer SL Material Verification Method ⓘ | L1: Lead Solder Present? | M1: Building Type | N1: POU or POE Treatment Present? ⓘ | O1: Customer SL Installation or Replacement Date | P1: Customer SL Size | Q1: SL Category ⓘ | R1: Note
A2: 29 Amalia Ln | B2: Rensselaer | C2: 12144 | D2: No | E2: Copper | F2: No | G2: Records | H2: after 1990 | I2: Upto 1" | J2: Copper | K2: Records | L2: No | M2: Single Family | O2: after 1990 | P2: Upto 1" | Q2: =IF(OR(Table1[[#This Row],[Current Public Side SL Material ⓘ]]="",Table1[[#This Row],[Was Public SL Material Ever Previously Lead?]]="",Table1[[#This Row],[Customer SL Material ⓘ]]=""),"",IF(OR(LEFT(Table1[[#This Row],[Current Public Side SL Material ⓘ]],4)="Lead",LEFT(Table1[[#This Row],[Customer SL Material ⓘ]],4)="Lead"),"Lead",IF(LEFT(Table1[[#This Row],[Current Public Side SL Material ⓘ]],1)="U",(IF(LEFT(Table1[[#This Row],[Customer SL Material ⓘ]],1)="G","GSLRR","Unknown")),(IF(LEFT(Table1[[#This Row],[Customer SL Material ⓘ]],1)="G",(IF(Table1[[#This Row],[Was Public SL Material Ever Previously Lead?]]="No","Non-Lead","GSLRR")),IF(LEFT(Table1[[#This Row],[Customer SL Material ⓘ]],1)="U","Unknown","Non-Lead")))))) -> Non-Lead
A3: 31 Amalia Ln | B3: Rensselaer | C3: 12144 | D3: No | E3: Copper | F3: No | G3: Records | H3: after 1990 | I3: Upto 1" | J3: Copper | K3: Records | L3: No | M3: Single Family | O3: after 1990 | P3: Upto 1" | Q3: =IF(OR(Table1[[#This Row],[Current Public Side SL Material ⓘ]]="",Table1[[#This Row],[Was Public SL Material Ever Previously Lead?]]="",Table1[[#This Row],[Customer SL Material ⓘ]]=""),"",IF(OR(LEFT(Table1[[#This Row],[Current Public Side SL Material ⓘ]],4)="Lead",LEFT(Table1[[#This Row],[Customer SL Material ⓘ]],4)="Lead"),"Lead",IF(LEFT(Table1[[#This Row],[Current Public Side SL Material ⓘ]],1)="U",(IF(LEFT(Table1[[#This Row],[Customer SL Material ⓘ]],1)="G","GSLRR","Unknown")),(IF(LEFT(Table1[[#This Row],[Customer SL Material ⓘ]],1)="G",(IF(Table1[[#This Row],[Was Public SL Material Ever Previously Lead?]]="No","Non-Lead","GSLRR")),IF(LEFT(Table1[[#This Row],[Customer SL Material ⓘ]],1)="U","Unknown","Non-Lead")))))) -> Non-Lead
A4: 33 Amalia Ln | B4: Rensselaer | C4: 12144 | D4: No | E4: Copper | F4: No | G4: Records | H4: after 1990 | I4: Upto 1" | J4: Copper | K4: Records | L4: No | M4: Single Family | O4: after 1990 | P4: Upto 1" | Q4: =IF(OR(Table1[[#This Row],[Current Public Side SL Material ⓘ]]="",Table1[[#This Row],[Was Public SL Material Ever Previously Lead?]]="",Table1[[#This Row],[Customer SL Material ⓘ]]=""),"",IF(OR(LEFT(Table1[[#This Row],[Current Public Side SL Material ⓘ]],4)="Lead",LEFT(Table1[[#This Row],[Customer SL Material ⓘ]],4)="Lead"),"Lead",IF(LEFT(Table1[[#This Row],[Current Public Side SL Material ⓘ]],1)="U",(IF(LEFT(Table1[[#This Row],[Customer SL Material ⓘ]],1)="G","GSLRR","Unknown")),(IF(LEFT(Table1[[#This Row],[Customer SL Material ⓘ]],1)="G",(IF(Table1[[#This Row],[Was Public SL Material Ever Previously Lead?]]="No","Non-Lead","GSLRR")),IF(LEFT(Table1[[#This Row],[Customer SL Material ⓘ]],1)="U","Unknown","Non-Lead")))))) -> Non-Lead
A5: 34 Amalia Ln | B5: Rensselaer | C5: 12144 | D5: No | E5: Copper | F5: No | G5: Records | H5: after 1990 | I5: Upto 1" | J5: Copper | K5: Records | L5: No | M5: Single Family | O5: after 1990 | P5: Upto 1" | Q5: =IF(OR(Table1[[#This Row],[Current Public Side SL Material ⓘ]]="",Table1[[#This Row],[Was Public SL Material Ever Previously Lead?]]="",Table1[[#This Row],[Customer SL Material ⓘ]]=""),"",IF(OR(LEFT(Table1[[#This Row],[Current Public Side SL Material ⓘ]],4)="Lead",LEFT(Table1[[#This Row],[Customer SL Material ⓘ]],4)="Lead"),"Lead",IF(LEFT(Table1[[#This Row],[Current Public Side SL Material ⓘ]],1)="U",(IF(LEFT(Table1[[#This Row],[Customer SL Material ⓘ]],1)="G","GSLRR","Unknown")),(IF(LEFT(Table1[[#This Row],[Customer SL Material ⓘ]],1)="G",(IF(Table1[[#This Row],[Was Public SL Material Ever Previously Lead?]]="No","Non-Lead","GSLRR")),IF(LEFT(Table1[[#This Row],[Customer SL Material ⓘ]],1)="U","Unknown","Non-Lead")))))) -> Non-Lead
A6: 32 Amalia Ln | B6: Rensselaer | C6: 12144 | D6: No | E6: Copper | F6: No | G6: Records | H6: after 1990 | I6: Upto 1" | J6: Copper | K6: Records | L6: No | M6: Single Family | O6: after 1990 | P6: Upto 1" | Q6: =IF(OR(Table1[[#This Row],[Current Public Side SL Material ⓘ]]="",Table1[[#This Row],[Was Public SL Material Ever Previously Lead?]]="",Table1[[#This Row],[Customer SL Material ⓘ]]=""),"",IF(OR(LEFT(Table1[[#This Row],[Current Public Side SL Material ⓘ]],4)="Lead",LEFT(Table1[[#This Row],[Customer SL Material ⓘ]],4)="Lead"),"Lead",IF(LEFT(Table1[[#This Row],[Current Public Side SL Material ⓘ]],1)="U",(IF(LEFT(Table1[[#This Row],[Customer SL Material ⓘ]],1)="G","GSLRR","Unknown")),(IF(LEFT(Table1[[#This Row],[Customer SL Material ⓘ]],1)="G",(IF(Table1[[#This Row],[Was Public SL Material Ever Previously Lead?]]="No","Non-Lead","GSLRR")),IF(LEFT(Table1[[#This Row],[Customer SL Material ⓘ]],1)="U","Unknown","Non-Lead")))))) -> Non-Lead
A7: 30 Amalia Ln | B7: Rensselaer | C7: 12144 | D7: No | E7: Copper | F7: No | G7: Records | H7: after 1990 | I7: Upto 1" | J7: Copper | K7: Records | L7: No | M7: Single Family | O7: after 1990 | P7: Upto 1" | Q7: =IF(OR(Table1[[#This Row],[Current Public Side SL Material ⓘ]]="",Table1[[#This Row],[Was Public SL Material Ever Previously Lead?]]="",Table1[[#This Row],[Customer SL Material ⓘ]]=""),"",IF(OR(LEFT(Table1[[#This Row],[Current Public Side SL Material ⓘ]],4)="Lead",LEFT(Table1[[#This Row],[Customer SL Material ⓘ]],4)="Lead"),"Lead",IF(LEFT(Table1[[#This Row],[Current Public Side SL Material ⓘ]],1)="U",(IF(LEFT(Table1[[#This Row],[Customer SL Material ⓘ]],1)="G","GSLRR","Unknown")),(IF(LEFT(Table1[[#This Row],[Customer SL Material ⓘ]],1)="G",(IF(Table1[[#This Row],[Was Public SL Material Ever Previously Lead?]]="No","Non-Lead","GSLRR")),IF(LEFT(Table1[[#This Row],[Customer SL Material ⓘ]],1)="U","Unknown","Non-Lead")))))) -> Non-Lead
A8: 28 Amalia Ln | B8: Rensselaer | C8: 12144 | D8: No | E8: Copper | F8: No | G8: Records | H8: after 1990 | I8: Upto 1" | J8: Copper | K8: Records | L8: No | M8: Single Family | O8: after 1990 | P8: Upto 1" | Q8: =IF(OR(Table1[[#This Row],[Current Public Side SL Material ⓘ]]="",Table1[[#This Row],[Was Public SL Material Ever Previously Lead?]]="",Table1[[#This Row],[Customer SL Material ⓘ]]=""),"",IF(OR(LEFT(Table1[[#This Row],[Current Public Side SL Material ⓘ]],4)="Lead",LEFT(Table1[[#This Row],[Customer SL Material ⓘ]],4)="Lead"),"Lead",IF(LEFT(Table1[[#This Row],[Current Public Side SL Material ⓘ]],1)="U",(IF(LEFT(Table1[[#This Row],[Customer SL Material ⓘ]],1)="G","GSLRR","Unknown")),(IF(LEFT(Table1[[#This Row],[Customer SL Material ⓘ]],1)="G",(IF(Table1[[#This Row],[Was Public SL Material Ever Previously Lead?]]="No","Non-Lead","GSLRR")),IF(LEFT(Table1[[#This Row],[Customer SL Material ⓘ]],1)="U","Unknown","Non-Lead")))))) -> Non-Lead
A9: 26 Amalia Ln | B9: Rensselaer | C9: 12144 | D9: No | E9: Copper | F9: No | G9: Records | H9: after 1990 | I9: Upto 1" | J9: Copper | K9: Records | L9: No | M9: Single Family | O9: after 1990 | P9: Upto 1" | Q9: =IF(OR(Table1[[#This Row],[Current Public Side SL Material ⓘ]]="",Table1[[#This Row],[Was Public SL Material Ever Previously Lead?]]="",Table1[[#This Row],[Customer SL Material ⓘ]]=""),"",IF(OR(LEFT(Table1[[#This Row],[Current Public Side SL Material ⓘ]],4)="Lead",LEFT(Table1[[#This Row],[Customer SL Material ⓘ]],4)="Lead"),"Lead",IF(LEFT(Table1[[#This Row],[Current Public Side SL Material ⓘ]],1)="U",(IF(LEFT(Table1[[#This Row],[Customer SL Material ⓘ]],1)="G","GSLRR","Unknown")),(IF(LEFT(Table1[[#This Row],[Customer SL Material ⓘ]],1)="G",(IF(Table1[[#This Row],[Was Public SL Material Ever Previously Lead?]]="No","Non-Lead","GSLRR")),IF(LEFT(Table1[[#This Row],[Customer SL Material ⓘ]],1)="U","Unknown","Non-Lead")))))) -> Non-Lead
A10: 24 Amalia Ln | B10: Rensselaer | C10: 12144 | D10: No | E10: Copper | F10: No | G10: Records | H10: after 1990 | I10: Upto 1" | J10: Copper | K10: Records | L10: No | M10: Single Family | O10: after 1990 | P10: Upto 1" | Q10: =IF(OR(Table1[[#This Row],[Current Public Side SL Material ⓘ]]="",Table1[[#This Row],[Was Public SL Material Ever Previously Lead?]]="",Table1[[#This Row],[Customer SL Material ⓘ]]=""),"",IF(OR(LEFT(Table1[[#This Row],[Current Public Side SL Material ⓘ]],4)="Lead",LEFT(Table1[[#This Row],[Customer SL Material ⓘ]],4)="Lead"),"Lead",IF(LEFT(Table1[[#This Row],[Current Public Side SL Material ⓘ]],1)="U",(IF(LEFT(Table1[[#This Row],[Customer SL Material ⓘ]],1)="G","GSLRR","Unknown")),(IF(LEFT(Table1[[#This Row],[Customer SL Material ⓘ]],1)="G",(IF(Table1[[#This Row],[Was Public SL Material Ever Previously Lead?]]="No","Non-Lead","GSLRR")),IF(LEFT(Table1[[#This Row],[Customer SL Material ⓘ]],1)="U","Unknown","Non-Lead")))))) -> Non-Lead
A11: 22 Amalia Ln | B11: Rensselaer | C11: 12144 | D11: No | E11: Copper | F11: No | G11: Records | H11: after 1990 | I11: Upto 1" | J11: Copper | K11: Records | L11: No | M11: Single Family | O11: after 1990 | P11: Upto 1" | Q11: =IF(OR(Table1[[#This Row],[Current Public Side SL Material ⓘ]]="",Table1[[#This Row],[Was Public SL Material Ever Previously Lead?]]="",Table1[[#This Row],[Customer SL Material ⓘ]]=""),"",IF(OR(LEFT(Table1[[#This Row],[Current Public Side SL Material ⓘ]],4)="Lead",LEFT(Table1[[#This Row],[Customer SL Material ⓘ]],4)="Lead"),"Lead",IF(LEFT(Table1[[#This Row],[Current Public Side SL Material ⓘ]],1)="U",(IF(LEFT(Table1[[#This Row],[Customer SL Material ⓘ]],1)="G","GSLRR","Unknown")),(IF(LEFT(Table1[[#This Row],[Customer SL Material ⓘ]],1)="G",(IF(Table1[[#This Row],[Was Public SL Material Ever Previously Lead?]]="No","Non-Lead","GSLRR")),IF(LEFT(Table1[[#This Row],[Customer SL Material ⓘ]],1)="U","Unknown","Non-Lead")))))) -> Non-Lead
A12: 20 Amalia Ln | B12: Rensselaer | C12: 12144 | D12: No | E12: Copper | F12: No | G12: Records | H12: after 1990 | I12: Upto 1" | J12: Copper | K12: Records | L12: No | M12: Single Family | O12: after 1990 | P12: Upto 1" | Q12: =IF(OR(Table1[[#This Row],[Current Public Side SL Material ⓘ]]="",Table1[[#This Row],[Was Public SL Material Ever Previously Lead?]]="",Table1[[#This Row],[Customer SL Material ⓘ]]=""),"",IF(OR(LEFT(Table1[[#This Row],[Current Public Side SL Material ⓘ]],4)="Lead",LEFT(Table1[[#This Row],[Customer SL Material ⓘ]],4)="Lead"),"Lead",IF(LEFT(Table1[[#This Row],[Current Public Side SL Material ⓘ]],1)="U",(IF(LEFT(Table1[[#This Row],[Customer SL Material ⓘ]],1)="G","GSLRR","Unknown")),(IF(LEFT(Table1[[#This Row],[Customer SL Material ⓘ]],1)="G",(IF(Table1[[#This Row],[Was Public SL Material Ever Previously Lead?]]="No","Non-Lead","GSLRR")),IF(LEFT(Table1[[#This Row],[Customer SL Material ⓘ]],1)="U","Unknown","Non-Lead")))))) -> Non-Lead
A13: 18 Amalia Ln | B13: Rensselaer | C13: 12144 | D13: No | E13: Copper | F13: No | G13: Records | H13: after 1990 | I13: Upto 1" | J13: Copper | K13: Records | L13: No | M13: Single Family | O13: after 1990 | P13: Upto 1" | Q13: =IF(OR(Table1[[#This Row],[Current Public Side SL Material ⓘ]]="",Table1[[#This Row],[Was Public SL Material Ever Previously Lead?]]="",Table1[[#This Row],[Customer SL Material ⓘ]]=""),"",IF(OR(LEFT(Table1[[#This Row],[Current Public Side SL Material ⓘ]],4)="Lead",LEFT(Table1[[#This Row],[Customer SL Material ⓘ]],4)="Lead"),"Lead",IF(LEFT(Table1[[#This Row],[Current Public Side SL Material ⓘ]],1)="U",(IF(LEFT(Table1[[#This Row],[Customer SL Material ⓘ]],1)="G","GSLRR","Unknown")),(IF(LEFT(Table1[[#This Row],[Customer SL Material ⓘ]],1)="G",(IF(Table1[[#This Row],[Was Public SL Material Ever Previously Lead?]]="No","Non-Lead","GSLRR")),IF(LEFT(Table1[[#This Row],[Customer SL Material ⓘ]],1)="U","Unknown","Non-Lead")))))) -> Non-Lead
... A365: 20-51 St Anthony Ln | B365: Rensselaer | C365: 12144 | D365: No | E365: Copper | F365: No | G365: Records | H365: after 1990 | I365: Upto 1" | J365: Copper | K365: Records | L365: No | M365: Multi Family | O365: after 1990 | P365: Upto 1" | Q365: =IF(OR(Table1[[#This Row],[Current Public Side SL Material ⓘ]]="",Table1[[#This Row],[Was Public SL Material Ever Previously Lead?]]="",Table1[[#This Row],[Customer SL Material ⓘ]]=""),"",IF(OR(LEFT(Table1[[#This Row],[Current Public Side SL Material ⓘ]],4)="Lead",LEFT(Table1[[#This Row],[Customer SL Material ⓘ]],4)="Lead"),"Lead",IF(LEFT(Table1[[#This Row],[Current Public Side SL Material ⓘ]],1)="U",(IF(LEFT(Table1[[#This Row],[Customer SL Material ⓘ]],1)="G","GSLRR","Unknown")),(IF(LEFT(Table1[[#This Row],[Customer SL Material ⓘ]],1)="G",(IF(Table1[[#This Row],[Was Public SL Material Ever Previously Lead?]]="No","Non-Lead","GSLRR")),IF(LEFT(Table1[[#This Row],[Customer SL Material ⓘ]],1)="U","Unknown","Non-Lead")))))) -> Non-Lead
A366: 1 St Francis Pl | B366: Rensselaer | C366: 12144 | D366: No | E366: Copper | F366: No | G366: Records | H366: after 1990 | I366: Upto 1" | J366: Copper | K366: Records | L366: No | M366: Other including Multiuse | O366: after 1990 | P366: 1.5" < SL ≤ 2" | Q366: =IF(OR(Table1[[#This Row],[Current Public Side SL Material ⓘ]]="",Table1[[#This Row],[Was Public SL Material Ever Previously Lead?]]="",Table1[[#This Row],[Customer SL Material ⓘ]]=""),"",IF(OR(LEFT(Table1[[#This Row],[Current Public Side SL Material ⓘ]],4)="Lead",LEFT(Table1[[#This Row],[Customer SL Material ⓘ]],4)="Lead"),"Lead",IF(LEFT(Table1[[#This Row],[Current Public Side SL Material ⓘ]],1)="U",(IF(LEFT(Table1[[#This Row],[Customer SL Material ⓘ]],1)="G","GSLRR","Unknown")),(IF(LEFT(Table1[[#This Row],[Customer SL Material ⓘ]],1)="G",(IF(Table1[[#This Row],[Was Public SL Material Ever Previously Lead?]]="No","Non-Lead","GSLRR")),IF(LEFT(Table1[[#This Row],[Customer SL Material ⓘ]],1)="U","Unknown","Non-Lead")))))) -> Non-Lead | R366: firehouse
A367: 797 Mann Ave | B367: Rensselaer | C367: 12144 | D367: No | E367: Plastic | F367: Unknown | G367: Records | H367: 2010 | I367: Upto 1" | J367: Copper | K367: Customer Identification with Photo or Other Verification | M367: Single Family | P367: Upto 1" | Q367: =IF(OR(Table1[[#This Row],[Current Public Side SL Material ⓘ]]="",Table1[[#This Row],[Was Public SL Material Ever Previously Lead?]]="",Table1[[#This Row],[Customer SL Material ⓘ]]=""),"",IF(OR(LEFT(Table1[[#This Row],[Current Public Side SL Material ⓘ]],4)="Lead",LEFT(Table1[[#This Row],[Customer SL Material ⓘ]],4)="Lead"),"Lead",IF(LEFT(Table1[[#This Row],[Current Public Side SL Material ⓘ]],1)="U",(IF(LEFT(Table1[[#This Row],[Customer SL Material ⓘ]],1)="G","GSLRR","Unknown")),(IF(LEFT(Table1[[#This Row],[Customer SL Material ⓘ]],1)="G",(IF(Table1[[#This Row],[Was Public SL Material Ever Previously Lead?]]="No","Non-Lead","GSLRR")),IF(LEFT(Table1[[#This Row],[Customer SL Material ⓘ]],1)="U","Unknown","Non-Lead")))))) -> Non-Lead
A368: 20 Forbes Ave | B368: Rensselaer | C368: 12144 | D368: Unknown | E368: Unknown | F368: No | G368: Not Verified | I368: Upto 1" | J368: Known Other | K368: Field Inspection | M368: Business | P368: larger than 2" | Q368: =IF(OR(Table1[[#This Row],[Current Public Side SL Material ⓘ]]="",Table1[[#This Row],[Was Public SL Material Ever Previously Lead?]]="",Table1[[#This Row],[Customer SL Material ⓘ]]=""),"",IF(OR(LEFT(Table1[[#This Row],[Current Public Side SL Material ⓘ]],4)="Lead",LEFT(Table1[[#This Row],[Customer SL Material ⓘ]],4)="Lead"),"Lead",IF(LEFT(Table1[[#This Row],[Current Public Side SL Material ⓘ]],1)="U",(IF(LEFT(Table1[[#This Row],[Customer SL Material ⓘ]],1)="G","GSLRR","Unknown")),(IF(LEFT(Table1[[#This Row],[Customer SL Material ⓘ]],1)="G",(IF(Table1[[#This Row],[Was Public SL Material Ever Previously Lead?]]="No","Non-Lead","GSLRR")),IF(LEFT(Table1[[#This Row],[Customer SL Material ⓘ]],1)="U","Unknown","Non-Lead")))))) -> Unknown | R368: steel
A369: 199 Washington Ave | B369: Rensselaer | C369: 12144 | D369: No | E369: Known Other | F369: Unknown | G369: Field Inspection | I369: Upto 1" | J369: Copper | K369: Field Inspection | M369: School or Childcare | P369: larger than 2" | Q369: =IF(OR(Table1[[#This Row],[Current Public Side SL Material ⓘ]]="",Table1[[#This Row],[Was Public SL Material Ever Previously Lead?]]="",Table1[[#This Row],[Customer SL Material ⓘ]]=""),"",IF(OR(LEFT(Table1[[#This Row],[Current Public Side SL Material ⓘ]],4)="Lead",LEFT(Table1[[#This Row],[Customer SL Material ⓘ]],4)="Lead"),"Lead",IF(LEFT(Table1[[#This Row],[Current Public Side SL Material ⓘ]],1)="U",(IF(LEFT(Table1[[#This Row],[Customer SL Material ⓘ]],1)="G","GSLRR","Unknown")),(IF(LEFT(Table1[[#This Row],[Customer SL Material ⓘ]],1)="G",(IF(Table1[[#This Row],[Was Public SL Material Ever Previously Lead?]]="No","Non-Lead","GSLRR")),IF(LEFT(Table1[[#This Row],[Customer SL Material ⓘ]],1)="U","Unknown","Non-Lead")))))) -> Non-Lead | R369: steel
A370: 55 Rock Cut Rd | B370: Rensselaer | C370: 12144 | D370: No | E370: Copper | F370: Unknown | G370: Records | I370: Upto 1" | J370: Copper | K370: Customer Identification with Photo or Other Verification | M370: Single Family | P370: Upto 1" | Q370: =IF(OR(Table1[[#This Row],[Current Public Side SL Material ⓘ]]="",Table1[[#This Row],[Was Public SL Material Ever Previously Lead?]]="",Table1[[#This Row],[Customer SL Material ⓘ]]=""),"",IF(OR(LEFT(Table1[[#This Row],[Current Public Side SL Material ⓘ]],4)="Lead",LEFT(Table1[[#This Row],[Customer SL Material ⓘ]],4)="Lead"),"Lead",IF(LEFT(Table1[[#This Row],[Current Public Side SL Material ⓘ]],1)="U",(IF(LEFT(Table1[[#This Row],[Customer SL Material ⓘ]],1)="G","GSLRR","Unknown")),(IF(LEFT(Table1[[#This Row],[Customer SL Material ⓘ]],1)="G",(IF(Table1[[#This Row],[Was Public SL Material Ever Previously Lead?]]="No","Non-Lead","GSLRR")),IF(LEFT(Table1[[#This Row],[Customer SL Material ⓘ]],1)="U","Unknown","Non-Lead")))))) -> Non-Lead
A371: 45 Rock Cut Rd | B371: Rensselaer | C371: 12144 | D371: No | E371: Copper | F371: Unknown | G371: Records | I371: Upto 1" | J371: Unknown | Q371: =IF(OR(Table1[[#This Row],[Current Public Side SL Material ⓘ]]="",Table1[[#This Row],[Was Public SL Material Ever Previously Lead?]]="",Table1[[#This Row],[Customer SL Material ⓘ]]=""),"",IF(OR(LEFT(Table1[[#This Row],[Current Public Side SL Material ⓘ]],4)="Lead",LEFT(Table1[[#This Row],[Customer SL Material ⓘ]],4)="Lead"),"Lead",IF(LEFT(Table1[[#This Row],[Current Public Side SL Material ⓘ]],1)="U",(IF(LEFT(Table1[[#This Row],[Customer SL Material ⓘ]],1)="G","GSLRR","Unknown")),(IF(LEFT(Table1[[#This Row],[Customer SL Material ⓘ]],1)="G",(IF(Table1[[#This Row],[Was Public SL Material Ever Previously Lead?]]="No","Non-Lead","GSLRR")),IF(LEFT(Table1[[#This Row],[Customer SL Material ⓘ]],1)="U","Unknown","Non-Lead")))))) -> Unknown
A372: 35 Rock Cut Rd | B372: Rensselaer | C372: 12144 | D372: No | E372: Copper | F372: Unknown | G372: Records | I372: Upto 1" | J372: Copper | K372: Records | M372: Single Family | P372: Upto 1" | Q372: =IF(OR(Table1[[#This Row],[Current Public Side SL Material ⓘ]]="",Table1[[#This Row],[Was Public SL Material Ever Previously Lead?]]="",Table1[[#This Row],[Customer SL Material ⓘ]]=""),"",IF(OR(LEFT(Table1[[#This Row],[Current Public Side SL Material ⓘ]],4)="Lead",LEFT(Table1[[#This Row],[Customer SL Material ⓘ]],4)="Lead"),"Lead",IF(LEFT(Table1[[#This Row],[Current Public Side SL Material ⓘ]],1)="U",(IF(LEFT(Table1[[#This Row],[Customer SL Material ⓘ]],1)="G","GSLRR","Unknown")),(IF(LEFT(Table1[[#This Row],[Customer SL Material ⓘ]],1)="G",(IF(Table1[[#This Row],[Was Public SL Material Ever Previously Lead?]]="No","Non-Lead","GSLRR")),IF(LEFT(Table1[[#This Row],[Customer SL Material ⓘ]],1)="U","Unknown","Non-Lead")))))) -> Non-Lead
A373: 37 Rock Cut Rd | B373: Rensselaer | C373: 12144 | D373: No | E373: Copper | F373: Unknown | G373: Records | I373: Upto 1" | J373: Copper | K373: Field Inspection | P373: Upto 1" | Q373: =IF(OR(Table1[[#This Row],[Current Public Side SL Material ⓘ]]="",Table1[[#This Row],[Was Public SL Material Ever Previously Lead?]]="",Table1[[#This Row],[Customer SL Material ⓘ]]=""),"",IF(OR(LEFT(Table1[[#This Row],[Current Public Side SL Material ⓘ]],4)="Lead",LEFT(Table1[[#This Row],[Customer SL Material ⓘ]],4)="Lead"),"Lead",IF(LEFT(Table1[[#This Row],[Current Public Side SL Material ⓘ]],1)="U",(IF(LEFT(Table1[[#This Row],[Customer SL Material ⓘ]],1)="G","GSLRR","Unknown")),(IF(LEFT(Table1[[#This Row],[Customer SL Material ⓘ]],1)="G",(IF(Table1[[#This Row],[Was Public SL Material Ever Previously Lead?]]="No","Non-Lead","GSLRR")),IF(LEFT(Table1[[#This Row],[Customer SL Material ⓘ]],1)="U","Unknown","Non-Lead")))))) -> Non-Lead
A374: 41 Rock Cut Rd | B374: Rensselaer | C374: 12144 | D374: No | E374: Copper | F374: Unknown | G374: Records | I374: Upto 1" | J374: Copper | K374: Records | M374: Single Family | P374: Upto 1" | Q374: =IF(OR(Table1[[#This Row],[Current Public Side SL Material ⓘ]]="",Table1[[#This Row],[Was Public SL Material Ever Previously Lead?]]="",Table1[[#This Row],[Customer SL Material ⓘ]]=""),"",IF(OR(LEFT(Table1[[#This Row],[Current Public Side SL Material ⓘ]],4)="Lead",LEFT(Table1[[#This Row],[Customer SL Material ⓘ]],4)="Lead"),"Lead",IF(LEFT(Table1[[#This Row],[Current Public Side SL Material ⓘ]],1)="U",(IF(LEFT(Table1[[#This Row],[Customer SL Material ⓘ]],1)="G","GSLRR","Unknown")),(IF(LEFT(Table1[[#This Row],[Customer SL Material ⓘ]],1)="G",(IF(Table1[[#This Row],[Was Public SL Material Ever Previously Lead?]]="No","Non-Lead","GSLRR")),IF(LEFT(Table1[[#This Row],[Customer SL Material ⓘ]],1)="U","Unknown","Non-Lead")))))) -> Non-Lead
A375: 66 Belleview Terr | B375: Rensselaer | C375: 12144 | D375: Unknown | E375: Copper | F375: Unknown | G375: Records | H375: 1987 | I375: Upto 1" | J375: Copper | K375: Field Inspection | M375: Single Family | P375: Upto 1" | Q375: =IF(OR(Table1[[#This Row],[Current Public Side SL Material ⓘ]]="",Table1[[#This Row],[Was Public SL Material Ever Previously Lead?]]="",Table1[[#This Row],[Customer SL Material ⓘ]]=""),"",IF(OR(LEFT(Table1[[#This Row],[Current Public Side SL Material ⓘ]],4)="Lead",LEFT(Table1[[#This Row],[Customer SL Material ⓘ]],4)="Lead"),"Lead",IF(LEFT(Table1[[#This Row],[Current Public Side SL Material ⓘ]],1)="U",(IF(LEFT(Table1[[#This Row],[Customer SL Material ⓘ]],1)="G","GSLRR","Unknown")),(IF(LEFT(Table1[[#This Row],[Customer SL Material ⓘ]],1)="G",(IF(Table1[[#This Row],[Was Public SL Material Ever Previously Lead?]]="No","Non-Lead","GSLRR")),IF(LEFT(Table1[[#This Row],[Customer SL Material ⓘ]],1)="U","Unknown","Non-Lead")))))) -> Non-Lead
A376: 50 Belleview Terr | B376: Rensselaer | C376: 12144 | D376: Unknown | E376: Copper | F376: Unknown | G376: Records | H376: 1987 | I376: Upto 1" | J376: Copper | K376: Field Inspection | P376: Upto 1" | Q376: =IF(OR(Table1[[#This Row],[Current Public Side SL Material ⓘ]]="",Table1[[#This Row],[Was Public SL Material Ever Previously Lead?]]="",Table1[[#This Row],[Customer SL Material ⓘ]]=""),"",IF(OR(LEFT(Table1[[#This Row],[Current Public Side SL Material ⓘ]],4)="Lead",LEFT(Table1[[#This Row],[Customer SL Material ⓘ]],4)="Lead"),"Lead",IF(LEFT(Table1[[#This Row],[Current Public Side SL Material ⓘ]],1)="U",(IF(LEFT(Table1[[#This Row],[Customer SL Material ⓘ]],1)="G","GSLRR","Unknown")),(IF(LEFT(Table1[[#This Row],[Customer SL Material ⓘ]],1)="G",(IF(Table1[[#This Row],[Was Public SL Material Ever Previously Lead?]]="No","Non-Lead","GSLRR")),IF(LEFT(Table1[[#This Row],[Customer SL Material ⓘ]],1)="U","Unknown","Non-Lead")))))) -> Non-Lead
A377: 52 Belleview Terr | B377: Rensselaer | C377: 12144 | D377: Unknown | E377: Copper | F377: Unknown | G377: Records | H377: 1987 | I377: Upto 1" | J377: Unknown | Q377: =IF(OR(Table1[[#This Row],[Current Public Side SL Material ⓘ]]="",Table1[[#This Row],[Was Public SL Material Ever Previously Lead?]]="",Table1[[#This Row],[Customer SL Material ⓘ]]=""),"",IF(OR(LEFT(Table1[[#This Row],[Current Public Side SL Material ⓘ]],4)="Lead",LEFT(Table1[[#This Row],[Customer SL Material ⓘ]],4)="Lead"),"Lead",IF(LEFT(Table1[[#This Row],[Current Public Side SL Material ⓘ]],1)="U",(IF(LEFT(Table1[[#This Row],[Customer SL Material ⓘ]],1)="G","GSLRR","Unknown")),(IF(LEFT(Table1[[#This Row],[Customer SL Material ⓘ]],1)="G",(IF(Table1[[#This Row],[Was Public SL Material Ever Previously Lead?]]="No","Non-Lead","GSLRR")),IF(LEFT(Table1[[#This Row],[Customer SL Material ⓘ]],1)="U","Unknown","Non-Lead")))))) -> Unknown
A378: 54 Belleview Terr | B378: Rensselaer | C378: 12144 | D378: Unknown | E378: Copper | F378: Unknown | G378: Records | H378: 1987 | I378: Upto 1" | J378: Galvanized | K378: Field Inspection | P378: Upto 1" | Q378: =IF(OR(Table1[[#This Row],[Current Public Side SL Material ⓘ]]="",Table1[[#This Row],[Was Public SL Material Ever Previously Lead?]]="",Table1[[#This Row],[Customer SL Material ⓘ]]=""),"",IF(OR(LEFT(Table1[[#This Row],[Current Public Side SL Material ⓘ]],4)="Lead",LEFT(Table1[[#This Row],[Customer SL Material ⓘ]],4)="Lead"),"Lead",IF(LEFT(Table1[[#This Row],[Current Public Side SL Material ⓘ]],1)="U",(IF(LEFT(Table1[[#This Row],[Customer SL Material ⓘ]],1)="G","GSLRR","Unknown")),(IF(LEFT(Table1[[#This Row],[Customer SL Material ⓘ]],1)="G",(IF(Table1[[#This Row],[Was Public SL Material Ever Previously Lead?]]="No","Non-Lead","GSLRR")),IF(LEFT(Table1[[#This Row],[Customer SL Material ⓘ]],1)="U","Unknown","Non-Lead")))))) -> GSLRR
A379: 56 Belleview Terr | B379: Rensselaer | C379: 12144 | D379: Unknown | E379: Copper | F379: Unknown | G379: Records | H379: 1987 | I379: Upto 1" | J379: Copper | K379: Field Inspection | P379: Upto 1" | Q379: =IF(OR(Table1[[#This Row],[Current Public Side SL Material ⓘ]]="",Table1[[#This Row],[Was Public SL Material Ever Previously Lead?]]="",Table1[[#This Row],[Customer SL Material ⓘ]]=""),"",IF(OR(LEFT(Table1[[#This Row],[Current Public Side SL Material ⓘ]],4)="Lead",LEFT(Table1[[#This Row],[Customer SL Material ⓘ]],4)="Lead"),"Lead",IF(LEFT(Table1[[#This Row],[Current Public Side SL Material ⓘ]],1)="U",(IF(LEFT(Table1[[#This Row],[Customer SL Material ⓘ]],1)="G","GSLRR","Unknown")),(IF(LEFT(Table1[[#This Row],[Customer SL Material ⓘ]],1)="G",(IF(Table1[[#This Row],[Was Public SL Material Ever Previously Lead?]]="No","Non-Lead","GSLRR")),IF(LEFT(Table1[[#This Row],[Customer SL Material ⓘ]],1)="U","Unknown","Non-Lead")))))) -> Non-Lead
A380: 64 Belleview Terr | B380: Rensselaer | C380: 12144 | D380: Unknown | E380: Copper | F380: Unknown | G380: Records | H380: 1987 | I380: Upto 1" | J380: Copper | K380: Other | P380: Upto 1" | Q380: =IF(OR(Table1[[#This Row],[Current Public Side SL Material ⓘ]]="",Table1[[#This Row],[Was Public SL Material Ever Previously Lead?]]="",Table1[[#This Row],[Customer SL Material ⓘ]]=""),"",IF(OR(LEFT(Table1[[#This Row],[Current Public Side SL Material ⓘ]],4)="Lead",LEFT(Table1[[#This Row],[Customer SL Material ⓘ]],4)="Lead"),"Lead",IF(LEFT(Table1[[#This Row],[Current Public Side SL Material ⓘ]],1)="U",(IF(LEFT(Table1[[#This Row],[Customer SL Material ⓘ]],1)="G","GSLRR","Unknown")),(IF(LEFT(Table1[[#This Row],[Customer SL Material ⓘ]],1)="G",(IF(Table1[[#This Row],[Was Public SL Material Ever Previously Lead?]]="No","Non-Lead","GSLRR")),IF(LEFT(Table1[[#This Row],[Customer SL Material ⓘ]],1)="U","Unknown","Non-Lead")))))) -> Non-Lead
A381: 1719 Second St | B381: Rensselaer | C381: 12144 | D381: Unknown | E381: Unknown | F381: Unknown | G381: Not Verified | I381: Upto 1" | J381: Unknown | M381: Single Family | Q381: =IF(OR(Table1[[#This Row],[Current Public Side SL Material ⓘ]]="",Table1[[#This Row],[Was Public SL Material Ever Previously Lead?]]="",Table1[[#This Row],[Customer SL Material ⓘ]]=""),"",IF(OR(LEFT(Table1[[#This Row],[Current Public Side SL Material ⓘ]],4)="Lead",LEFT(Table1[[#This Row],[Customer SL Material ⓘ]],4)="Lead"),"Lead",IF(LEFT(Table1[[#This Row],[Current Public Side SL Material ⓘ]],1)="U",(IF(LEFT(Table1[[#This Row],[Customer SL Material ⓘ]],1)="G","GSLRR","Unknown")),(IF(LEFT(Table1[[#This Row],[Customer SL Material ⓘ]],1)="G",(IF(Table1[[#This Row],[Was Public SL Material Ever Previously Lead?]]="No","Non-Lead","GSLRR")),IF(LEFT(Table1[[#This Row],[Customer SL Material ⓘ]],1)="U","Unknown","Non-Lead")))))) -> Unknown
A382: 1715 Second St | B382: Rensselaer | C382: 12144 | D382: Unknown | E382: Copper | F382: Unknown | G382: Records | H382: 1987 | I382: Upto 1" | J382: Copper | K382: Other | P382: Upto 1" | Q382: =IF(OR(Table1[[#This Row],[Current Public Side SL Material ⓘ]]="",Table1[[#This Row],[Was Public SL Material Ever Previously Lead?]]="",Table1[[#This Row],[Customer SL Material ⓘ]]=""),"",IF(OR(LEFT(Table1[[#This Row],[Current Public Side SL Material ⓘ]],4)="Lead",LEFT(Table1[[#This Row],[Customer SL Material ⓘ]],4)="Lead"),"Lead",IF(LEFT(Table1[[#This Row],[Current Public Side SL Material ⓘ]],1)="U",(IF(LEFT(Table1[[#This Row],[Customer SL Material ⓘ]],1)="G","GSLRR","Unknown")),(IF(LEFT(Table1[[#This Row],[Customer SL Material ⓘ]],1)="G",(IF(Table1[[#This Row],[Was Public SL Material Ever Previously Lead?]]="No","Non-Lead","GSLRR")),IF(LEFT(Table1[[#This Row],[Customer SL Material ⓘ]],1)="U","Unknown","Non-Lead")))))) -> Non-Lead
A383: 1709 Second St | B383: Rensselaer | C383: 12144 | D383: Unknown | E383: Copper | F383: Unknown | G383: Records | H383: 1987 | I383: Upto 1" | J383: Galvanized | K383: Customer Identification with Photo or Other Verification | P383: Upto 1" | Q383: =IF(OR(Table1[[#This Row],[Current Public Side SL Material ⓘ]]="",Table1[[#This Row],[Was Public SL Material Ever Previously Lead?]]="",Table1[[#This Row],[Customer SL Material ⓘ]]=""),"",IF(OR(LEFT(Table1[[#This Row],[Current Public Side SL Material ⓘ]],4)="Lead",LEFT(Table1[[#This Row],[Customer SL Material ⓘ]],4)="Lead"),"Lead",IF(LEFT(Table1[[#This Row],[Current Public Side SL Material ⓘ]],1)="U",(IF(LEFT(Table1[[#This Row],[Customer SL Material ⓘ]],1)="G","GSLRR","Unknown")),(IF(LEFT(Table1[[#This Row],[Customer SL Material ⓘ]],1)="G",(IF(Table1[[#This Row],[Was Public SL Material Ever Previously Lead?]]="No","Non-Lead","GSLRR")),IF(LEFT(Table1[[#This Row],[Customer SL Material ⓘ]],1)="U","Unknown","Non-Lead")))))) -> GSLRR
A384: 1705 Second St | B384: Rensselaer | C384: 12144 | D384: Unknown | E384: Copper | F384: Unknown | G384: Records | H384: 1987 | I384: Upto 1" | J384: Copper | K384: Field Inspection | P384: Upto 1" | Q384: =IF(OR(Table1[[#This Row],[Current Public Side SL Material ⓘ]]="",Table1[[#This Row],[Was Public SL Material Ever Previously Lead?]]="",Table1[[#This Row],[Customer SL Material ⓘ]]=""),"",IF(OR(LEFT(Table1[[#This Row],[Current Public Side SL Material ⓘ]],4)="Lead",LEFT(Table1[[#This Row],[Customer SL Material ⓘ]],4)="Lead"),"Lead",IF(LEFT(Table1[[#This Row],[Current Public Side SL Material ⓘ]],1)="U",(IF(LEFT(Table1[[#This Row],[Customer SL Material ⓘ]],1)="G","GSLRR","Unknown")),(IF(LEFT(Table1[[#This Row],[Customer SL Material ⓘ]],1)="G",(IF(Table1[[#This Row],[Was Public SL Material Ever Previously Lead?]]="No","Non-Lead","GSLRR")),IF(LEFT(Table1[[#This Row],[Customer SL Material ⓘ]],1)="U","Unknown","Non-Lead")))))) -> Non-Lead
A385: 1701 Second St | B385: Rensselaer | C385: 12144 | D385: Unknown | E385: Copper | F385: Unknown | G385: Records | H385: 1987 | I385: Upto 1" | J385: Copper | K385: Field Inspection | P385: Upto 1" | Q385: =IF(OR(Table1[[#This Row],[Current Public Side SL Material ⓘ]]="",Table1[[#This Row],[Was Public SL Material Ever Previously Lead?]]="",Table1[[#This Row],[Customer SL Material ⓘ]]=""),"",IF(OR(LEFT(Table1[[#This Row],[Current Public Side SL Material ⓘ]],4)="Lead",LEFT(Table1[[#This Row],[Customer SL Material ⓘ]],4)="Lead"),"Lead",IF(LEFT(Table1[[#This Row],[Current Public Side SL Material ⓘ]],1)="U",(IF(LEFT(Table1[[#This Row],[Customer SL Material ⓘ]],1)="G","GSLRR","Unknown")),(IF(LEFT(Table1[[#This Row],[Customer SL Material ⓘ]],1)="G",(IF(Table1[[#This Row],[Was Public SL Material Ever Previously Lead?]]="No","Non-Lead","GSLRR")),IF(LEFT(Table1[[#This Row],[Customer SL Material ⓘ]],1)="U","Unknown","Non-Lead")))))) -> Non-Lead
A386: 40 Belleview Terr | B386: Rensselaer | C386: 12144 | D386: Unknown | E386: Copper | F386: Unknown | G386: Field Inspection | H386: 1987 | I386: Upto 1" | J386: Galvanized | K386: Other | P386: Upto 1" | Q386: =IF(OR(Table1[[#This Row],[Current Public Side SL Material ⓘ]]="",Table1[[#This Row],[Was Public SL Material Ever Previously Lead?]]="",Table1[[#This Row],[Customer SL Material ⓘ]]=""),"",IF(OR(LEFT(Table1[[#This Row],[Current Public Side SL Material ⓘ]],4)="Lead",LEFT(Table1[[#This Row],[Customer SL Material ⓘ]],4)="Lead"),"Lead",IF(LEFT(Table1[[#This Row],[Current Public Side SL Material ⓘ]],1)="U",(IF(LEFT(Table1[[#This Row],[Customer SL Material ⓘ]],1)="G","GSLRR","Unknown")),(IF(LEFT(Table1[[#This Row],[Customer SL Material ⓘ]],1)="G",(IF(Table1[[#This Row],[Was Public SL Material Ever Previously Lead?]]="No","Non-Lead","GSLRR")),IF(LEFT(Table1[[#This Row],[Customer SL Material ⓘ]],1)="U","Unknown","Non-Lead")))))) -> GSLRR
A387: 394 Forbes Ave | B387: Rensselaer | C387: 12144 | D387: Unknown | E387: Unknown | F387: Unknown | G387: Not Verified | I387: Upto 1" | J387: Copper | K387: Other | P387: Upto 1" | Q387: =IF(OR(Table1[[#This Row],[Current Public Side SL Material ⓘ]]="",Table1[[#This Row],[Was Public SL Material Ever Previously Lead?]]="",Table1[[#This Row],[Customer SL Material ⓘ]]=""),"",IF(OR(LEFT(Table1[[#This Row],[Current Public Side SL Material ⓘ]],4)="Lead",LEFT(Table1[[#This Row],[Customer SL Material ⓘ]],4)="Lead"),"Lead",IF(LEFT(Table1[[#This Row],[Current Public Side SL Material ⓘ]],1)="U",(IF(LEFT(Table1[[#This Row],[Customer SL Material ⓘ]],1)="G","GSLRR","Unknown")),(IF(LEFT(Table1[[#This Row],[Customer SL Material ⓘ]],1)="G",(IF(Table1[[#This Row],[Was Public SL Material Ever Previously Lead?]]="No","Non-Lead","GSLRR")),IF(LEFT(Table1[[#This Row],[Customer SL Material ⓘ]],1)="U","Unknown","Non-Lead")))))) -> Unknown
A388: 57 Washington Ave | B388: Rensselaer | C388: 12144 | D388: No | E388: Copper | F388: Unknown | G388: Records | I388: Upto 1" | J388: Copper | K388: Field Inspection | P388: Upto 1" | Q388: =IF(OR(Table1[[#This Row],[Current Public Side SL Material ⓘ]]="",Table1[[#This Row],[Was Public SL Material Ever Previously Lead?]]="",Table1[[#This Row],[Customer SL Material ⓘ]]=""),"",IF(OR(LEFT(Table1[[#This Row],[Current Public Side SL Material ⓘ]],4)="Lead",LEFT(Table1[[#This Row],[Customer SL Material ⓘ]],4)="Lead"),"Lead",IF(LEFT(Table1[[#This Row],[Current Public Side SL Material ⓘ]],1)="U",(IF(LEFT(Table1[[#This Row],[Customer SL Material ⓘ]],1)="G","GSLRR","Unknown")),(IF(LEFT(Table1[[#This Row],[Customer SL Material ⓘ]],1)="G",(IF(Table1[[#This Row],[Was Public SL Material Ever Previously Lead?]]="No","Non-Lead","GSLRR")),IF(LEFT(Table1[[#This Row],[Customer SL Material ⓘ]],1)="U","Unknown","Non-Lead")))))) -> Non-Lead
A389: 55 Washington Ave | B389: Rensselaer | C389: 12144 | D389: No | E389: Copper | F389: Unknown | G389: Records | I389: Upto 1" | J389: Galvanized | K389: Field Inspection | P389: Upto 1" | Q389: =IF(OR(Table1[[#This Row],[Current Public Side SL Material ⓘ]]="",Table1[[#This Row],[Was Public SL Material Ever Previously Lead?]]="",Table1[[#This Row],[Customer SL Material ⓘ]]=""),"",IF(OR(LEFT(Table1[[#This Row],[Current Public Side SL Material ⓘ]],4)="Lead",LEFT(Table1[[#This Row],[Customer SL Material ⓘ]],4)="Lead"),"Lead",IF(LEFT(Table1[[#This Row],[Current Public Side SL Material ⓘ]],1)="U",(IF(LEFT(Table1[[#This Row],[Customer SL Material ⓘ]],1)="G","GSLRR","Unknown")),(IF(LEFT(Table1[[#This Row],[Customer SL Material ⓘ]],1)="G",(IF(Table1[[#This Row],[Was Public SL Material Ever Previously Lead?]]="No","Non-Lead","GSLRR")),IF(LEFT(Table1[[#This Row],[Customer SL Material ⓘ]],1)="U","Unknown","Non-Lead")))))) -> GSLRR
A390: 47 Washington Ave | B390: Rensselaer | C390: 12144 | D390: No | E390: Copper | F390: Unknown | G390: Records | I390: Upto 1" | J390: Unknown | M390: Single Family | Q390: =IF(OR(Table1[[#This Row],[Current Public Side SL Material ⓘ]]="",Table1[[#This Row],[Was Public SL Material Ever Previously Lead?]]="",Table1[[#This Row],[Customer SL Material ⓘ]]=""),"",IF(OR(LEFT(Table1[[#This Row],[Current Public Side SL Material ⓘ]],4)="Lead",LEFT(Table1[[#This Row],[Customer SL Material ⓘ]],4)="Lead"),"Lead",IF(LEFT(Table1[[#This Row],[Current Public Side SL Material ⓘ]],1)="U",(IF(LEFT(Table1[[#This Row],[Customer SL Material ⓘ]],1)="G","GSLRR","Unknown")),(IF(LEFT(Table1[[#This Row],[Customer SL Material ⓘ]],1)="G",(IF(Table1[[#This Row],[Was Public SL Material Ever Previously Lead?]]="No","Non-Lead","GSLRR")),IF(LEFT(Table1[[#This Row],[Customer SL Material ⓘ]],1)="U","Unknown","Non-Lead")))))) -> Unknown
A391: 41 Washington Ave | B391: Rensselaer | C391: 12144 | D391: No | E391: Copper | F391: Unknown | G391: Records | I391: Upto 1" | J391: Copper | K391: Customer Identification with Photo or Other Verification | P391: Upto 1" | Q391: =IF(OR(Table1[[#This Row],[Current Public Side SL Material ⓘ]]="",Table1[[#This Row],[Was Public SL Material Ever Previously Lead?]]="",Table1[[#This Row],[Customer SL Material ⓘ]]=""),"",IF(OR(LEFT(Table1[[#This Row],[Current Public Side SL Material ⓘ]],4)="Lead",LEFT(Table1[[#This Row],[Customer SL Material ⓘ]],4)="Lead"),"Lead",IF(LEFT(Table1[[#This Row],[Current Public Side SL Material ⓘ]],1)="U",(IF(LEFT(Table1[[#This Row],[Customer SL Material ⓘ]],1)="G","GSLRR","Unknown")),(IF(LEFT(Table1[[#This Row],[Customer SL Material ⓘ]],1)="G",(IF(Table1[[#This Row],[Was Public SL Material Ever Previously Lead?]]="No","Non-Lead","GSLRR")),IF(LEFT(Table1[[#This Row],[Customer SL Material ⓘ]],1)="U","Unknown","Non-Lead")))))) -> Non-Lead
A392: 1704 Second St | B392: Rensselaer | C392: 12144 | D392: No | E392: Copper | F392: Unknown | G392: Records | H392: 1987 | I392: Upto 1" | J392: Copper | K392: Field Inspection | P392: Upto 1" | Q392: =IF(OR(Table1[[#This Row],[Current Public Side SL Material ⓘ]]="",Table1[[#This Row],[Was Public SL Material Ever Previously Lead?]]="",Table1[[#This Row],[Customer SL Material ⓘ]]=""),"",IF(OR(LEFT(Table1[[#This Row],[Current Public Side SL Material ⓘ]],4)="Lead",LEFT(Table1[[#This Row],[Customer SL Material ⓘ]],4)="Lead"),"Lead",IF(LEFT(Table1[[#This Row],[Current Public Side SL Material ⓘ]],1)="U",(IF(LEFT(Table1[[#This Row],[Customer SL Material ⓘ]],1)="G","GSLRR","Unknown")),(IF(LEFT(Table1[[#This Row],[Customer SL Material ⓘ]],1)="G",(IF(Table1[[#This Row],[Was Public SL Material Ever Previously Lead?]]="No","Non-Lead","GSLRR")),IF(LEFT(Table1[[#This Row],[Customer SL Material ⓘ]],1)="U","Unknown","Non-Lead")))))) -> Non-Lead
A393: 1706 Second St | B393: Rensselaer | C393: 12144 | D393: Unknown | E393: Copper | F393: Unknown | G393: Records | H393: 1987 | I393: Upto 1" | J393: Galvanized | K393: Customer Identification with Photo or Other Verification | P393: Upto 1" | Q393: =IF(OR(Table1[[#This Row],[Current Public Side SL Material ⓘ]]="",Table1[[#This Row],[Was Public SL Material Ever Previously Lead?]]="",Table1[[#This Row],[Customer SL Material ⓘ]]=""),"",IF(OR(LEFT(Table1[[#This Row],[Current Public Side SL Material ⓘ]],4)="Lead",LEFT(Table1[[#This Row],[Customer SL Material ⓘ]],4)="Lead"),"Lead",IF(LEFT(Table1[[#This Row],[Current Public Side SL Material ⓘ]],1)="U",(IF(LEFT(Table1[[#This Row],[Customer SL Material ⓘ]],1)="G","GSLRR","Unknown")),(IF(LEFT(Table1[[#This Row],[Customer SL Material ⓘ]],1)="G",(IF(Table1[[#This Row],[Was Public SL Material Ever Previously Lead?]]="No","Non-Lead","GSLRR")),IF(LEFT(Table1[[#This Row],[Customer SL Material ⓘ]],1)="U","Unknown","Non-Lead")))))) -> GSLRR
A394: 1710 Second St | B394: Rensselaer | C394: 12144 | D394: Unknown | E394: Copper | F394: Unknown | G394: Records | H394: 1987 | I394: Upto 1" | J394: Galvanized | K394: Field Inspection | P394: Upto 1" | Q394: =IF(OR(Table1[[#This Row],[Current Public Side SL Material ⓘ]]="",Table1[[#This Row],[Was Public SL Material Ever Previously Lead?]]="",Table1[[#This Row],[Customer SL Material ⓘ]]=""),"",IF(OR(LEFT(Table1[[#This Row],[Current Public Side SL Material ⓘ]],4)="Lead",LEFT(Table1[[#This Row],[Customer SL Material ⓘ]],4)="Lead"),"Lead",IF(LEFT(Table1[[#This Row],[Current Public Side SL Material ⓘ]],1)="U",(IF(LEFT(Table1[[#This Row],[Customer SL Material ⓘ]],1)="G","GSLRR","Unknown")),(IF(LEFT(Table1[[#This Row],[Customer SL Material ⓘ]],1)="G",(IF(Table1[[#This Row],[Was Public SL Material Ever Previously Lead?]]="No","Non-Lead","GSLRR")),IF(LEFT(Table1[[#This Row],[Customer SL Material ⓘ]],1)="U","Unknown","Non-Lead")))))) -> GSLRR
A395: 1712 Second St | B395: Rensselaer | C395: 12144 | D395: Unknown | E395: Copper | F395: Unknown | G395: Records | H395: 1987 | I395: Upto 1" | J395: Copper | K395: Field Inspection | P395: Upto 1" | Q395: =IF(OR(Table1[[#This Row],[Current Public Side SL Material ⓘ]]="",Table1[[#This Row],[Was Public SL Material Ever Previously Lead?]]="",Table1[[#This Row],[Customer SL Material ⓘ]]=""),"",IF(OR(LEFT(Table1[[#This Row],[Current Public Side SL Material ⓘ]],4)="Lead",LEFT(Table1[[#This Row],[Customer SL Material ⓘ]],4)="Lead"),"Lead",IF(LEFT(Table1[[#This Row],[Current Public Side SL Material ⓘ]],1)="U",(IF(LEFT(Table1[[#This Row],[Customer SL Material ⓘ]],1)="G","GSLRR","Unknown")),(IF(LEFT(Table1[[#This Row],[Customer SL Material ⓘ]],1)="G",(IF(Table1[[#This Row],[Was Public SL Material Ever Previously Lead?]]="No","Non-Lead","GSLRR")),IF(LEFT(Table1[[#This Row],[Customer SL Material ⓘ]],1)="U","Unknown","Non-Lead")))))) -> Non-Lead
A396: 1847 Fourth St | B396: Rensselaer | C396: 12144 | D396: Yes | E396: Unknown | F396: Unknown | G396: Not Verified | I396: Upto 1" | J396: Galvanized | K396: Field Inspection | P396: Upto 1" | Q396: =IF(OR(Table1[[#This Row],[Current Public Side SL Material ⓘ]]="",Table1[[#This Row],[Was Public SL Material Ever Previously Lead?]]="",Table1[[#This Row],[Customer SL Material ⓘ]]=""),"",IF(OR(LEFT(Table1[[#This Row],[Current Public Side SL Material ⓘ]],4)="Lead",LEFT(Table1[[#This Row],[Customer SL Material ⓘ]],4)="Lead"),"Lead",IF(LEFT(Table1[[#This Row],[Current Public Side SL Material ⓘ]],1)="U",(IF(LEFT(Table1[[#This Row],[Customer SL Material ⓘ]],1)="G","GSLRR","Unknown")),(IF(LEFT(Table1[[#This Row],[Customer SL Material ⓘ]],1)="G",(IF(Table1[[#This Row],[Was Public SL Material Ever Previously Lead?]]="No","Non-Lead","GSLRR")),IF(LEFT(Table1[[#This Row],[Customer SL Material ⓘ]],1)="U","Unknown","Non-Lead")))))) -> GSLRR
A397: 1827 Fourth St | B397: Rensselaer | C397: 12144 | D397: Yes | E397: Galvanized | F397: Unknown | G397: Statistical Analysis/Predictive Model | I397: Upto 1" | J397: Copper | K397: Field Inspection | P397: Upto 1" | Q397: =IF(OR(Table1[[#This Row],[Current Public Side SL Material ⓘ]]="",Table1[[#This Row],[Was Public SL Material Ever Previously Lead?]]="",Table1[[#This Row],[Customer SL Material ⓘ]]=""),"",IF(OR(LEFT(Table1[[#This Row],[Current Public Side SL Material ⓘ]],4)="Lead",LEFT(Table1[[#This Row],[Customer SL Material ⓘ]],4)="Lead"),"Lead",IF(LEFT(Table1[[#This Row],[Current Public Side SL Material ⓘ]],1)="U",(IF(LEFT(Table1[[#This Row],[Customer SL Material ⓘ]],1)="G","GSLRR","Unknown")),(IF(LEFT(Table1[[#This Row],[Customer SL Material ⓘ]],1)="G",(IF(Table1[[#This Row],[Was Public SL Material Ever Previously Lead?]]="No","Non-Lead","GSLRR")),IF(LEFT(Table1[[#This Row],[Customer SL Material ⓘ]],1)="U","Unknown","Non-Lead")))))) -> Non-Lead
A398: 1815 Fourth St | B398: Rensselaer | C398: 12144 | D398: Yes | E398: Galvanized | F398: Unknown | G398: Statistical Analysis/Predictive Model | I398: Upto 1" | J398: Copper | K398: Customer Identification with Photo or Other Verification | P398: Upto 1" | Q398: =IF(OR(Table1[[#This Row],[Current Public Side SL Material ⓘ]]="",Table1[[#This Row],[Was Public SL Material Ever Previously Lead?]]="",Table1[[#This Row],[Customer SL Material ⓘ]]=""),"",IF(OR(LEFT(Table1[[#This Row],[Current Public Side SL Material ⓘ]],4)="Lead",LEFT(Table1[[#This Row],[Customer SL Material ⓘ]],4)="Lead"),"Lead",IF(LEFT(Table1[[#This Row],[Current Public Side SL Material ⓘ]],1)="U",(IF(LEFT(Table1[[#This Row],[Customer SL Material ⓘ]],1)="G","GSLRR","Unknown")),(IF(LEFT(Table1[[#This Row],[Customer SL Material ⓘ]],1)="G",(IF(Table1[[#This Row],[Was Public SL Material Ever Previously Lead?]]="No","Non-Lead","GSLRR")),IF(LEFT(Table1[[#This Row],[Customer SL Material ⓘ]],1)="U","Unknown","Non-Lead")))))) -> Non-Lead
A399: 1809 Fourth St | B399: Rensselaer | C399: 12144 | D399: Yes | E399: Galvanized | F399: Unknown | G399: Statistical Analysis/Predictive Model | I399: Upto 1" | J399: Galvanized | K399: Field Inspection | P399: Upto 1" | Q399: =IF(OR(Table1[[#This Row],[Current Public Side SL Material ⓘ]]="",Table1[[#This Row],[Was Public SL Material Ever Previously Lead?]]="",Table1[[#This Row],[Customer SL Material ⓘ]]=""),"",IF(OR(LEFT(Table1[[#This Row],[Current Public Side SL Material ⓘ]],4)="Lead",LEFT(Table1[[#This Row],[Customer SL Material ⓘ]],4)="Lead"),"Lead",IF(LEFT(Table1[[#This Row],[Current Public Side SL Material ⓘ]],1)="U",(IF(LEFT(Table1[[#This Row],[Customer SL Material ⓘ]],1)="G","GSLRR","Unknown")),(IF(LEFT(Table1[[#This Row],[Customer SL Material ⓘ]],1)="G",(IF(Table1[[#This Row],[Was Public SL Material Ever Previously Lead?]]="No","Non-Lead","GSLRR")),IF(LEFT(Table1[[#This Row],[Customer SL Material ⓘ]],1)="U","Unknown","Non-Lead")))))) -> GSLRR
A400: 1801 Fourth St | B400: Rensselaer | C400: 12144 | D400: Yes | E400: Galvanized | F400: Unknown | G400: Statistical Analysis/Predictive Model | I400: Upto 1" | J400: Copper | K400: Field Inspection | P400: Upto 1" | Q400: =IF(OR(Table1[[#This Row],[Current Public Side SL Material ⓘ]]="",Table1[[#This Row],[Was Public SL Material Ever Previously Lead?]]="",Table1[[#This Row],[Customer SL Material ⓘ]]=""),"",IF(OR(LEFT(Table1[[#This Row],[Current Public Side SL Material ⓘ]],4)="Lead",LEFT(Table1[[#This Row],[Customer SL Material ⓘ]],4)="Lead"),"Lead",IF(LEFT(Table1[[#This Row],[Current Public Side SL Material ⓘ]],1)="U",(IF(LEFT(Table1[[#This Row],[Customer SL Material ⓘ]],1)="G","GSLRR","Unknown")),(IF(LEFT(Table1[[#This Row],[Customer SL Material ⓘ]],1)="G",(IF(Table1[[#This Row],[Was Public SL Material Ever Previously Lead?]]="No","Non-Lead","GSLRR")),IF(LEFT(Table1[[#This Row],[Customer SL Material ⓘ]],1)="U","Unknown","Non-Lead")))))) -> Non-Lead
A401: 61-63 Washington Ave | B401: Rensselaer | C401: 12144 | D401: Unknown | E401: Unknown | F401: Unknown | G401: Not Verified | I401: Upto 1" | J401: Copper | K401: Field Inspection | P401: Upto 1" | Q401: =IF(OR(Table1[[#This Row],[Current Public Side SL Material ⓘ]]="",Table1[[#This Row],[Was Public SL Material Ever Previously Lead?]]="",Table1[[#This Row],[Customer SL Material ⓘ]]=""),"",IF(OR(LEFT(Table1[[#This Row],[Current Public Side SL Material ⓘ]],4)="Lead",LEFT(Table1[[#This Row],[Customer SL Material ⓘ]],4)="Lead"),"Lead",IF(LEFT(Table1[[#This Row],[Current Public Side SL Material ⓘ]],1)="U",(IF(LEFT(Table1[[#This Row],[Customer SL Material ⓘ]],1)="G","GSLRR","Unknown")),(IF(LEFT(Table1[[#This Row],[Customer SL Material ⓘ]],1)="G",(IF(Table1[[#This Row],[Was Public SL Material Ever Previously Lead?]]="No","Non-Lead","GSLRR")),IF(LEFT(Table1[[#This Row],[Customer SL Material ⓘ]],1)="U","Unknown","Non-Lead")))))) -> Unknown
A402: 59 Washington Ave | B402: Rensselaer | C402: 12144 | D402: Unknown | E402: Unknown | F402: Unknown | G402: Not Verified | I402: Upto 1" | J402: Unknown | Q402: =IF(OR(Table1[[#This Row],[Current Public Side SL Material ⓘ]]="",Table1[[#This Row],[Was Public SL Material Ever Previously Lead?]]="",Table1[[#This Row],[Customer SL Material ⓘ]]=""),"",IF(OR(LEFT(Table1[[#This Row],[Current Public Side SL Material ⓘ]],4)="Lead",LEFT(Table1[[#This Row],[Customer SL Material ⓘ]],4)="Lead"),"Lead",IF(LEFT(Table1[[#This Row],[Current Public Side SL Material ⓘ]],1)="U",(IF(LEFT(Table1[[#This Row],[Customer SL Material ⓘ]],1)="G","GSLRR","Unknown")),(IF(LEFT(Table1[[#This Row],[Customer SL Material ⓘ]],1)="G",(IF(Table1[[#This Row],[Was Public SL Material Ever Previously Lead?]]="No","Non-Lead","GSLRR")),IF(LEFT(Table1[[#This Row],[Customer SL Material ⓘ]],1)="U","Unknown","Non-Lead")))))) -> Unknown
A403: 460 Forbes Ave | B403: Rensselaer | C403: 12144 | D403: No | E403: Known Other | F403: Unknown | G403: Records | I403: Upto 1" | J403: Known Other | K403: Field Inspection | M403: Multi Family | P403: larger than 2" | Q403: =IF(OR(Table1[[#This Row],[Current Public Side SL Material ⓘ]]="",Table1[[#This Row],[Was Public SL Material Ever Previously Lead?]]="",Table1[[#This Row],[Customer SL Material ⓘ]]=""),"",IF(OR(LEFT(Table1[[#This Row],[Current Public Side SL Material ⓘ]],4)="Lead",LEFT(Table1[[#This Row],[Customer SL Material ⓘ]],4)="Lead"),"Lead",IF(LEFT(Table1[[#This Row],[Current Public Side SL Material ⓘ]],1)="U",(IF(LEFT(Table1[[#This Row],[Customer SL Material ⓘ]],1)="G","GSLRR","Unknown")),(IF(LEFT(Table1[[#This Row],[Customer SL Material ⓘ]],1)="G",(IF(Table1[[#This Row],[Was Public SL Material Ever Previously Lead?]]="No","Non-Lead","GSLRR")),IF(LEFT(Table1[[#This Row],[Customer SL Material ⓘ]],1)="U","Unknown","Non-Lead")))))) -> Non-Lead | R403: steel
A404: 4 Patten Ave | B404: Rensselaer | C404: 12144 | D404: Unknown | E404: Unknown but could be lead | F404: Unknown | G404: Not Verified | I404: Upto 1" | J404: Copper | K404: Field Inspection | P404: Upto 1" | Q404: =IF(OR(Table1[[#This Row],[Current Public Side SL Material ⓘ]]="",Table1[[#This Row],[Was Public SL Material Ever Previously Lead?]]="",Table1[[#This Row],[Customer SL Material ⓘ]]=""),"",IF(OR(LEFT(Table1[[#This Row],[Current Public Side SL Material ⓘ]],4)="Lead",LEFT(Table1[[#This Row],[Customer SL Material ⓘ]],4)="Lead"),"Lead",IF(LEFT(Table1[[#This Row],[Current Public Side SL Material ⓘ]],1)="U",(IF(LEFT(Table1[[#This Row],[Customer SL Material ⓘ]],1)="G","GSLRR","Unknown")),(IF(LEFT(Table1[[#This Row],[Customer SL Material ⓘ]],1)="G",(IF(Table1[[#This Row],[Was Public SL Material Ever Previously Lead?]]="No","Non-Lead","GSLRR")),IF(LEFT(Table1[[#This Row],[Customer SL Material ⓘ]],1)="U","Unknown","Non-Lead")))))) -> Unknown
A405: 2 Patten Ave | B405: Rensselaer | C405: 12144 | D405: Unknown | E405: Unknown but could be lead | F405: Unknown | G405: Not Verified | I405: Upto 1" | J405: Galvanized | K405: Customer Identification with Photo or Other Verification | P405: Upto 1" | Q405: =IF(OR(Table1[[#This Row],[Current Public Side SL Material ⓘ]]="",Table1[[#This Row],[Was Public SL Material Ever Previously Lead?]]="",Table1[[#This Row],[Customer SL Material ⓘ]]=""),"",IF(OR(LEFT(Table1[[#This Row],[Current Public Side SL Material ⓘ]],4)="Lead",LEFT(Table1[[#This Row],[Customer SL Material ⓘ]],4)="Lead"),"Lead",IF(LEFT(Table1[[#This Row],[Current Public Side SL Material ⓘ]],1)="U",(IF(LEFT(Table1[[#This Row],[Customer SL Material ⓘ]],1)="G","GSLRR","Unknown")),(IF(LEFT(Table1[[#This Row],[Customer SL Material ⓘ]],1)="G",(IF(Table1[[#This Row],[Was Public SL Material Ever Previously Lead?]]="No","Non-Lead","GSLRR")),IF(LEFT(Table1[[#This Row],[Customer SL Material ⓘ]],1)="U","Unknown","Non-Lead")))))) -> GSLRR
A406: 1822 Fourth St | B406: Rensselaer | C406: 12144 | D406: Yes | E406: Galvanized | F406: Unknown | G406: Statistical Analysis/Predictive Model | I406: Upto 1" | J406: Galvanized | K406: Field Inspection | P406: Upto 1" | Q406: =IF(OR(Table1[[#This Row],[Current Public Side SL Material ⓘ]]="",Table1[[#This Row],[Was Public SL Material Ever Previously Lead?]]="",Table1[[#This Row],[Customer SL Material ⓘ]]=""),"",IF(OR(LEFT(Table1[[#This Row],[Current Public Side SL Material ⓘ]],4)="Lead",LEFT(Table1[[#This Row],[Customer SL Material ⓘ]],4)="Lead"),"Lead",IF(LEFT(Table1[[#This Row],[Current Public Side SL Material ⓘ]],1)="U",(IF(LEFT(Table1[[#This Row],[Customer SL Material ⓘ]],1)="G","GSLRR","Unknown")),(IF(LEFT(Table1[[#This Row],[Customer SL Material ⓘ]],1)="G",(IF(Table1[[#This Row],[Was Public SL Material Ever Previously Lead?]]="No","Non-Lead","GSLRR")),IF(LEFT(Table1[[#This Row],[Customer SL Material ⓘ]],1)="U","Unknown","Non-Lead")))))) -> GSLRR
A407: 1846 Fourth St | B407: Rensselaer | C407: 12144 | D407: Yes | E407: Galvanized | F407: Unknown | G407: Statistical Analysis/Predictive Model | I407: Upto 1" | J407: Copper | K407: Field Inspection | P407: Upto 1" | Q407: =IF(OR(Table1[[#This Row],[Current Public Side SL Material ⓘ]]="",Table1[[#This Row],[Was Public SL Material Ever Previously Lead?]]="",Table1[[#This Row],[Customer SL Material ⓘ]]=""),"",IF(OR(LEFT(Table1[[#This Row],[Current Public Side SL Material ⓘ]],4)="Lead",LEFT(Table1[[#This Row],[Customer SL Material ⓘ]],4)="Lead"),"Lead",IF(LEFT(Table1[[#This Row],[Current Public Side SL Material ⓘ]],1)="U",(IF(LEFT(Table1[[#This Row],[Customer SL Material ⓘ]],1)="G","GSLRR","Unknown")),(IF(LEFT(Table1[[#This Row],[Customer SL Material ⓘ]],1)="G",(IF(Table1[[#This Row],[Was Public SL Material Ever Previously Lead?]]="No","Non-Lead","GSLRR")),IF(LEFT(Table1[[#This Row],[Customer SL Material ⓘ]],1)="U","Unknown","Non-Lead")))))) -> Non-Lead
A408: 1818 Fourth St | B408: Rensselaer | C408: 12144 | D408: Yes | E408: Galvanized | F408: Unknown | G408: Statistical Analysis/Predictive Model | I408: Upto 1" | J408: Copper | K408: Customer Identification with Photo or Other Verification | P408: Upto 1" | Q408: =IF(OR(Table1[[#This Row],[Current Public Side SL Material ⓘ]]="",Table1[[#This Row],[Was Public SL Material Ever Previously Lead?]]="",Table1[[#This Row],[Customer SL Material ⓘ]]=""),"",IF(OR(LEFT(Table1[[#This Row],[Current Public Side SL Material ⓘ]],4)="Lead",LEFT(Table1[[#This Row],[Customer SL Material ⓘ]],4)="Lead"),"Lead",IF(LEFT(Table1[[#This Row],[Current Public Side SL Material ⓘ]],1)="U",(IF(LEFT(Table1[[#This Row],[Customer SL Material ⓘ]],1)="G","GSLRR","Unknown")),(IF(LEFT(Table1[[#This Row],[Customer SL Material ⓘ]],1)="G",(IF(Table1[[#This Row],[Was Public SL Material Ever Previously Lead?]]="No","Non-Lead","GSLRR")),IF(LEFT(Table1[[#This Row],[Customer SL Material ⓘ]],1)="U","Unknown","Non-Lead")))))) -> Non-Lead
A409: 123 Washington Ave | B409: Rensselaer | C409: 12144 | D409: No | E409: Copper | F409: Unknown | G409: Excavation | H409: 2020 | I409: Upto 1" | J409: Copper | K409: Field Inspection | P409: Upto 1" | Q409: =IF(OR(Table1[[#This Row],[Current Public Side SL Material ⓘ]]="",Table1[[#This Row],[Was Public SL Material Ever Previously Lead?]]="",Table1[[#This Row],[Customer SL Material ⓘ]]=""),"",IF(OR(LEFT(Table1[[#This Row],[Current Public Side SL Material ⓘ]],4)="Lead",LEFT(Table1[[#This Row],[Customer SL Material ⓘ]],4)="Lead"),"Lead",IF(LEFT(Table1[[#This Row],[Current Public Side SL Material ⓘ]],1)="U",(IF(LEFT(Table1[[#This Row],[Customer SL Material ⓘ]],1)="G","GSLRR","Unknown")),(IF(LEFT(Table1[[#This Row],[Customer SL Material ⓘ]],1)="G",(IF(Table1[[#This Row],[Was Public SL Material Ever Previously Lead?]]="No","Non-Lead","GSLRR")),IF(LEFT(Table1[[#This Row],[Customer SL Material ⓘ]],1)="U","Unknown","Non-Lead")))))) -> Non-Lead
A410: 119 Washington Ave | B410: Rensselaer | C410: 12144 | D410: Yes | E410: Galvanized | F410: Unknown | G410: Statistical Analysis/Predictive Model | I410: Upto 1" | J410: Copper | K410: Field Inspection | P410: Upto 1" | Q410: =IF(OR(Table1[[#This Row],[Current Public Side SL Material ⓘ]]="",Table1[[#This Row],[Was Public SL Material Ever Previously Lead?]]="",Table1[[#This Row],[Customer SL Material ⓘ]]=""),"",IF(OR(LEFT(Table1[[#This Row],[Current Public Side SL Material ⓘ]],4)="Lead",LEFT(Table1[[#This Row],[Customer SL Material ⓘ]],4)="Lead"),"Lead",IF(LEFT(Table1[[#This Row],[Current Public Side SL Material ⓘ]],1)="U",(IF(LEFT(Table1[[#This Row],[Customer SL Material ⓘ]],1)="G","GSLRR","Unknown")),(IF(LEFT(Table1[[#This Row],[Customer SL Material ⓘ]],1)="G",(IF(Table1[[#This Row],[Was Public SL Material Ever Previously Lead?]]="No","Non-Lead","GSLRR")),IF(LEFT(Table1[[#This Row],[Customer SL Material ⓘ]],1)="U","Unknown","Non-Lead")))))) -> Non-Lead
A411: 117 Washington Ave | B411: Rensselaer | C411: 12144 | D411: Yes | E411: Galvanized | F411: Unknown | G411: Statistical Analysis/Predictive Model | I411: Upto 1" | J411: Unknown | Q411: =IF(OR(Table1[[#This Row],[Current Public Side SL Material ⓘ]]="",Table1[[#This Row],[Was Public SL Material Ever Previously Lead?]]="",Table1[[#This Row],[Customer SL Material ⓘ]]=""),"",IF(OR(LEFT(Table1[[#This Row],[Current Public Side SL Material ⓘ]],4)="Lead",LEFT(Table1[[#This Row],[Customer SL Material ⓘ]],4)="Lead"),"Lead",IF(LEFT(Table1[[#This Row],[Current Public Side SL Material ⓘ]],1)="U",(IF(LEFT(Table1[[#This Row],[Customer SL Material ⓘ]],1)="G","GSLRR","Unknown")),(IF(LEFT(Table1[[#This Row],[Customer SL Material ⓘ]],1)="G",(IF(Table1[[#This Row],[Was Public SL Material Ever Previously Lead?]]="No","Non-Lead","GSLRR")),IF(LEFT(Table1[[#This Row],[Customer SL Material ⓘ]],1)="U","Unknown","Non-Lead")))))) -> Unknown
A412: 113 Washington Ave | B412: Rensselaer | C412: 12144 | D412: Yes | E412: Galvanized | F412: Unknown | G412: Statistical Analysis/Predictive Model | I412: Upto 1" | J412: Copper | K412: Field Inspection | P412: Upto 1" | Q412: =IF(OR(Table1[[#This Row],[Current Public Side SL Material ⓘ]]="",Table1[[#This Row],[Was Public SL Material Ever Previously Lead?]]="",Table1[[#This Row],[Customer SL Material ⓘ]]=""),"",IF(OR(LEFT(Table1[[#This Row],[Current Public Side SL Material ⓘ]],4)="Lead",LEFT(Table1[[#This Row],[Customer SL Material ⓘ]],4)="Lead"),"Lead",IF(LEFT(Table1[[#This Row],[Current Public Side SL Material ⓘ]],1)="U",(IF(LEFT(Table1[[#This Row],[Customer SL Material ⓘ]],1)="G","GSLRR","Unknown")),(IF(LEFT(Table1[[#This Row],[Customer SL Material ⓘ]],1)="G",(IF(Table1[[#This Row],[Was Public SL Material Ever Previously Lead?]]="No","Non-Lead","GSLRR")),IF(LEFT(Table1[[#This Row],[Customer SL Material ⓘ]],1)="U","Unknown","Non-Lead")))))) -> Non-Lead
A413: 111 Washington Ave | B413: Rensselaer | C413: 12144 | D413: Yes | E413: Galvanized | F413: Unknown | G413: Statistical Analysis/Predictive Model | I413: Upto 1" | J413: Galvanized | K413: Field Inspection | P413: Upto 1" | Q413: =IF(OR(Table1[[#This Row],[Current Public Side SL Material ⓘ]]="",Table1[[#This Row],[Was Public SL Material Ever Previously Lead?]]="",Table1[[#This Row],[Customer SL Material ⓘ]]=""),"",IF(OR(LEFT(Table1[[#This Row],[Current Public Side SL Material ⓘ]],4)="Lead",LEFT(Table1[[#This Row],[Customer SL Material ⓘ]],4)="Lead"),"Lead",IF(LEFT(Table1[[#This Row],[Current Public Side SL Material ⓘ]],1)="U",(IF(LEFT(Table1[[#This Row],[Customer SL Material ⓘ]],1)="G","GSLRR","Unknown")),(IF(LEFT(Table1[[#This Row],[Customer SL Material ⓘ]],1)="G",(IF(Table1[[#This Row],[Was Public SL Material Ever Previously Lead?]]="No","Non-Lead","GSLRR")),IF(LEFT(Table1[[#This Row],[Customer SL Material ⓘ]],1)="U","Unknown","Non-Lead")))))) -> GSLRR
A414: 107 Washington Ave | B414: Rensselaer | C414: 12144 | D414: Yes | E414: Galvanized | F414: Unknown | G414: Statistical Analysis/Predictive Model | I414: Upto 1" | J414: Copper | K414: Field Inspection | P414: Upto 1" | Q414: =IF(OR(Table1[[#This Row],[Current Public Side SL Material ⓘ]]="",Table1[[#This Row],[Was Public SL Material Ever Previously Lead?]]="",Table1[[#This Row],[Customer SL Material ⓘ]]=""),"",IF(OR(LEFT(Table1[[#This Row],[Current Public Side SL Material ⓘ]],4)="Lead",LEFT(Table1[[#This Row],[Customer SL Material ⓘ]],4)="Lead"),"Lead",IF(LEFT(Table1[[#This Row],[Current Public Side SL Material ⓘ]],1)="U",(IF(LEFT(Table1[[#This Row],[Customer SL Material ⓘ]],1)="G","GSLRR","Unknown")),(IF(LEFT(Table1[[#This Row],[Customer SL Material ⓘ]],1)="G",(IF(Table1[[#This Row],[Was Public SL Material Ever Previously Lead?]]="No","Non-Lead","GSLRR")),IF(LEFT(Table1[[#This Row],[Customer SL Material ⓘ]],1)="U","Unknown","Non-Lead")))))) -> Non-Lead
A415: 101 Washington Ave | B415: Rensselaer | C415: 12144 | D415: Yes | E415: Galvanized | F415: Unknown | G415: Statistical Analysis/Predictive Model | I415: Upto 1" | J415: Galvanized | K415: Field Inspection | P415: Upto 1" | Q415: =IF(OR(Table1[[#This Row],[Current Public Side SL Material ⓘ]]="",Table1[[#This Row],[Was Public SL Material Ever Previously Lead?]]="",Table1[[#This Row],[Customer SL Material ⓘ]]=""),"",IF(OR(LEFT(Table1[[#This Row],[Current Public Side SL Material ⓘ]],4)="Lead",LEFT(Table1[[#This Row],[Customer SL Material ⓘ]],4)="Lead"),"Lead",IF(LEFT(Table1[[#This Row],[Current Public Side SL Material ⓘ]],1)="U",(IF(LEFT(Table1[[#This Row],[Customer SL Material ⓘ]],1)="G","GSLRR","Unknown")),(IF(LEFT(Table1[[#This Row],[Customer SL Material ⓘ]],1)="G",(IF(Table1[[#This Row],[Was Public SL Material Ever Previously Lead?]]="No","Non-Lead","GSLRR")),IF(LEFT(Table1[[#This Row],[Customer SL Material ⓘ]],1)="U","Unknown","Non-Lead")))))) -> GSLRR
A416: 99 Washington Ave | B416: Rensselaer | C416: 12144 | D416: No | E416: Copper | F416: Unknown | G416: Excavation | H416: 44872 | I416: Upto 1" | J416: Copper | K416: Field Inspection | P416: Upto 1" | Q416: =IF(OR(Table1[[#This Row],[Current Public Side SL Material ⓘ]]="",Table1[[#This Row],[Was Public SL Material Ever Previously Lead?]]="",Table1[[#This Row],[Customer SL Material ⓘ]]=""),"",IF(OR(LEFT(Table1[[#This Row],[Current Public Side SL Material ⓘ]],4)="Lead",LEFT(Table1[[#This Row],[Customer SL Material ⓘ]],4)="Lead"),"Lead",IF(LEFT(Table1[[#This Row],[Current Public Side SL Material ⓘ]],1)="U",(IF(LEFT(Table1[[#This Row],[Customer SL Material ⓘ]],1)="G","GSLRR","Unknown")),(IF(LEFT(Table1[[#This Row],[Customer SL Material ⓘ]],1)="G",(IF(Table1[[#This Row],[Was Public SL Material Ever Previously Lead?]]="No","Non-Lead","GSLRR")),IF(LEFT(Table1[[#This Row],[Customer SL Material ⓘ]],1)="U","Unknown","Non-Lead")))))) -> Non-Lead
A417: 95 Washington Ave | B417: Rensselaer | C417: 12144 | D417: Yes | E417: Galvanized | F417: Unknown | G417: Statistical Analysis/Predictive Model | I417: Upto 1" | J417: Galvanized | K417: Field Inspection | P417: Upto 1" | Q417: =IF(OR(Table1[[#This Row],[Current Public Side SL Material ⓘ]]="",Table1[[#This Row],[Was Public SL Material Ever Previously Lead?]]="",Table1[[#This Row],[Customer SL Material ⓘ]]=""),"",IF(OR(LEFT(Table1[[#This Row],[Current Public Side SL Material ⓘ]],4)="Lead",LEFT(Table1[[#This Row],[Customer SL Material ⓘ]],4)="Lead"),"Lead",IF(LEFT(Table1[[#This Row],[Current Public Side SL Material ⓘ]],1)="U",(IF(LEFT(Table1[[#This Row],[Customer SL Material ⓘ]],1)="G","GSLRR","Unknown")),(IF(LEFT(Table1[[#This Row],[Customer SL Material ⓘ]],1)="G",(IF(Table1[[#This Row],[Was Public SL Material Ever Previously Lead?]]="No","Non-Lead","GSLRR")),IF(LEFT(Table1[[#This Row],[Customer SL Material ⓘ]],1)="U","Unknown","Non-Lead")))))) -> GSLRR
A418: 1 Patten Ave | B418: Rensselaer | C418: 12144 | D418: Unknown | E418: Unknown | F418: Unknown | G418: Statistical Analysis/Predictive Model | I418: Upto 1" | J418: Copper | K418: Field Inspection | P418: Upto 1" | Q418: =IF(OR(Table1[[#This Row],[Current Public Side SL Material ⓘ]]="",Table1[[#This Row],[Was Public SL Material Ever Previously Lead?]]="",Table1[[#This Row],[Customer SL Material ⓘ]]=""),"",IF(OR(LEFT(Table1[[#This Row],[Current Public Side SL Material ⓘ]],4)="Lead",LEFT(Table1[[#This Row],[Customer SL Material ⓘ]],4)="Lead"),"Lead",IF(LEFT(Table1[[#This Row],[Current Public Side SL Material ⓘ]],1)="U",(IF(LEFT(Table1[[#This Row],[Customer SL Material ⓘ]],1)="G","GSLRR","Unknown")),(IF(LEFT(Table1[[#This Row],[Customer SL Material ⓘ]],1)="G",(IF(Table1[[#This Row],[Was Public SL Material Ever Previously Lead?]]="No","Non-Lead","GSLRR")),IF(LEFT(Table1[[#This Row],[Customer SL Material ⓘ]],1)="U","Unknown","Non-Lead")))))) -> Unknown
A419: 91 Washington Ave | B419: Rensselaer | C419: 12144 | D419: Yes | E419: Galvanized | F419: Unknown | G419: Statistical Analysis/Predictive Model | I419: Upto 1" | J419: Lead including lead-lined galvanized | K419: Other | P419: Upto 1" | Q419: =IF(OR(Table1[[#This Row],[Current Public Side SL Material ⓘ]]="",Table1[[#This Row],[Was Public SL Material Ever Previously Lead?]]="",Table1[[#This Row],[Customer SL Material ⓘ]]=""),"",IF(OR(LEFT(Table1[[#This Row],[Current Public Side SL Material ⓘ]],4)="Lead",LEFT(Table1[[#This Row],[Customer SL Material ⓘ]],4)="Lead"),"Lead",IF(LEFT(Table1[[#This Row],[Current Public Side SL Material ⓘ]],1)="U",(IF(LEFT(Table1[[#This Row],[Customer SL Material ⓘ]],1)="G","GSLRR","Unknown")),(IF(LEFT(Table1[[#This Row],[Customer SL Material ⓘ]],1)="G",(IF(Table1[[#This Row],[Was Public SL Material Ever Previously Lead?]]="No","Non-Lead","GSLRR")),IF(LEFT(Table1[[#This Row],[Customer SL Material ⓘ]],1)="U","Unknown","Non-Lead")))))) -> Lead
A420: 87 Washington Ave | B420: Rensselaer | C420: 12144 | D420: Yes | E420: Galvanized | F420: Unknown | G420: Statistical Analysis/Predictive Model | I420: Upto 1" | J420: Copper | K420: Field Inspection | P420: Upto 1" | Q420: =IF(OR(Table1[[#This Row],[Current Public Side SL Material ⓘ]]="",Table1[[#This Row],[Was Public SL Material Ever Previously Lead?]]="",Table1[[#This Row],[Customer SL Material ⓘ]]=""),"",IF(OR(LEFT(Table1[[#This Row],[Current Public Side SL Material ⓘ]],4)="Lead",LEFT(Table1[[#This Row],[Customer SL Material ⓘ]],4)="Lead"),"Lead",IF(LEFT(Table1[[#This Row],[Current Public Side SL Material ⓘ]],1)="U",(IF(LEFT(Table1[[#This Row],[Customer SL Material ⓘ]],1)="G","GSLRR","Unknown")),(IF(LEFT(Table1[[#This Row],[Customer SL Material ⓘ]],1)="G",(IF(Table1[[#This Row],[Was Public SL Material Ever Previously Lead?]]="No","Non-Lead","GSLRR")),IF(LEFT(Table1[[#This Row],[Customer SL Material ⓘ]],1)="U","Unknown","Non-Lead")))))) -> Non-Lead
A421: 77-79 Washington Ave | B421: Rensselaer | C421: 12144 | D421: Yes | E421: Galvanized | F421: Unknown | G421: Statistical Analysis/Predictive Model | I421: Upto 1" | J421: Copper | K421: Field Inspection | P421: Upto 1" | Q421: =IF(OR(Table1[[#This Row],[Current Public Side SL Material ⓘ]]="",Table1[[#This Row],[Was Public SL Material Ever Previously Lead?]]="",Table1[[#This Row],[Customer SL Material ⓘ]]=""),"",IF(OR(LEFT(Table1[[#This Row],[Current Public Side SL Material ⓘ]],4)="Lead",LEFT(Table1[[#This Row],[Customer SL Material ⓘ]],4)="Lead"),"Lead",IF(LEFT(Table1[[#This Row],[Current Public Side SL Material ⓘ]],1)="U",(IF(LEFT(Table1[[#This Row],[Customer SL Material ⓘ]],1)="G","GSLRR","Unknown")),(IF(LEFT(Table1[[#This Row],[Customer SL Material ⓘ]],1)="G",(IF(Table1[[#This Row],[Was Public SL Material Ever Previously Lead?]]="No","Non-Lead","GSLRR")),IF(LEFT(Table1[[#This Row],[Customer SL Material ⓘ]],1)="U","Unknown","Non-Lead")))))) -> Non-Lead
A422: 79 Washington Ave | B422: Rensselaer | C422: 12144 | D422: Yes | E422: Galvanized | F422: Unknown | G422: Statistical Analysis/Predictive Model | I422: Upto 1" | J422: Copper | K422: Field Inspection | P422: Upto 1" | Q422: =IF(OR(Table1[[#This Row],[Current Public Side SL Material ⓘ]]="",Table1[[#This Row],[Was Public SL Material Ever Previously Lead?]]="",Table1[[#This Row],[Customer SL Material ⓘ]]=""),"",IF(OR(LEFT(Table1[[#This Row],[Current Public Side SL Material ⓘ]],4)="Lead",LEFT(Table1[[#This Row],[Customer SL Material ⓘ]],4)="Lead"),"Lead",IF(LEFT(Table1[[#This Row],[Current Public Side SL Material ⓘ]],1)="U",(IF(LEFT(Table1[[#This Row],[Customer SL Material ⓘ]],1)="G","GSLRR","Unknown")),(IF(LEFT(Table1[[#This Row],[Customer SL Material ⓘ]],1)="G",(IF(Table1[[#This Row],[Was Public SL Material Ever Previously Lead?]]="No","Non-Lead","GSLRR")),IF(LEFT(Table1[[#This Row],[Customer SL Material ⓘ]],1)="U","Unknown","Non-Lead")))))) -> Non-Lead
A423: 1802 Fourth St | B423: Rensselaer | C423: 12144 | D423: Yes | E423: Galvanized | F423: Unknown | G423: Statistical Analysis/Predictive Model | I423: Upto 1" | J423: Copper | K423: Field Inspection | M423: Business | P423: Upto 1" | Q423: =IF(OR(Table1[[#This Row],[Current Public Side SL Material ⓘ]]="",Table1[[#This Row],[Was Public SL Material Ever Previously Lead?]]="",Table1[[#This Row],[Customer SL Material ⓘ]]=""),"",IF(OR(LEFT(Table1[[#This Row],[Current Public Side SL Material ⓘ]],4)="Lead",LEFT(Table1[[#This Row],[Customer SL Material ⓘ]],4)="Lead"),"Lead",IF(LEFT(Table1[[#This Row],[Current Public Side SL Material ⓘ]],1)="U",(IF(LEFT(Table1[[#This Row],[Customer SL Material ⓘ]],1)="G","GSLRR","Unknown")),(IF(LEFT(Table1[[#This Row],[Customer SL Material ⓘ]],1)="G",(IF(Table1[[#This Row],[Was Public SL Material Ever Previously Lead?]]="No","Non-Lead","GSLRR")),IF(LEFT(Table1[[#This Row],[Customer SL Material ⓘ]],1)="U","Unknown","Non-Lead")))))) -> Non-Lead
A424: 1808 Fourth St | B424: Rensselaer | C424: 12144 | D424: Yes | E424: Galvanized | F424: Unknown | G424: Statistical Analysis/Predictive Model | I424: Upto 1" | J424: Copper | K424: Customer Identification with Photo or Other Verification | P424: Upto 1" | Q424: =IF(OR(Table1[[#This Row],[Current Public Side SL Material ⓘ]]="",Table1[[#This Row],[Was Public SL Material Ever Previously Lead?]]="",Table1[[#This Row],[Customer SL Material ⓘ]]=""),"",IF(OR(LEFT(Table1[[#This Row],[Current Public Side SL Material ⓘ]],4)="Lead",LEFT(Table1[[#This Row],[Customer SL Material ⓘ]],4)="Lead"),"Lead",IF(LEFT(Table1[[#This Row],[Current Public Side SL Material ⓘ]],1)="U",(IF(LEFT(Table1[[#This Row],[Customer SL Material ⓘ]],1)="G","GSLRR","Unknown")),(IF(LEFT(Table1[[#This Row],[Customer SL Material ⓘ]],1)="G",(IF(Table1[[#This Row],[Was Public SL Material Ever Previously Lead?]]="No","Non-Lead","GSLRR")),IF(LEFT(Table1[[#This Row],[Customer SL Material ⓘ]],1)="U","Unknown","Non-Lead")))))) -> Non-Lead
A425: 1812 Fourth St | B425: Rensselaer | C425: 12144 | D425: Yes | E425: Galvanized | F425: Unknown | G425: Statistical Analysis/Predictive Model | I425: Upto 1" | J425: Copper | K425: Field Inspection | M425: Multi Family | P425: Upto 1" | Q425: =IF(OR(Table1[[#This Row],[Current Public Side SL Material ⓘ]]="",Table1[[#This Row],[Was Public SL Material Ever Previously Lead?]]="",Table1[[#This Row],[Customer SL Material ⓘ]]=""),"",IF(OR(LEFT(Table1[[#This Row],[Current Public Side SL Material ⓘ]],4)="Lead",LEFT(Table1[[#This Row],[Customer SL Material ⓘ]],4)="Lead"),"Lead",IF(LEFT(Table1[[#This Row],[Current Public Side SL Material ⓘ]],1)="U",(IF(LEFT(Table1[[#This Row],[Customer SL Material ⓘ]],1)="G","GSLRR","Unknown")),(IF(LEFT(Table1[[#This Row],[Customer SL Material ⓘ]],1)="G",(IF(Table1[[#This Row],[Was Public SL Material Ever Previously Lead?]]="No","Non-Lead","GSLRR")),IF(LEFT(Table1[[#This Row],[Customer SL Material ⓘ]],1)="U","Unknown","Non-Lead")))))) -> Non-Lead
A426: 3 Patten Ave | B426: Rensselaer | C426: 12144 | D426: Unknown | E426: Unknown | F426: Unknown | G426: Not Verified | I426: Upto 1" | J426: Galvanized | K426: Customer Identification with Photo or Other Verification | P426: Upto 1" | Q426: =IF(OR(Table1[[#This Row],[Current Public Side SL Material ⓘ]]="",Table1[[#This Row],[Was Public SL Material Ever Previously Lead?]]="",Table1[[#This Row],[Customer SL Material ⓘ]]=""),"",IF(OR(LEFT(Table1[[#This Row],[Current Public Side SL Material ⓘ]],4)="Lead",LEFT(Table1[[#This Row],[Customer SL Material ⓘ]],4)="Lead"),"Lead",IF(LEFT(Table1[[#This Row],[Current Public Side SL Material ⓘ]],1)="U",(IF(LEFT(Table1[[#This Row],[Customer SL Material ⓘ]],1)="G","GSLRR","Unknown")),(IF(LEFT(Table1[[#This Row],[Customer SL Material ⓘ]],1)="G",(IF(Table1[[#This Row],[Was Public SL Material Ever Previously Lead?]]="No","Non-Lead","GSLRR")),IF(LEFT(Table1[[#This Row],[Customer SL Material ⓘ]],1)="U","Unknown","Non-Lead")))))) -> GSLRR
A427: 5 Patten Ave | B427: Rensselaer | C427: 12144 | D427: Unknown | E427: Unknown but could be lead | F427: Unknown | G427: Not Verified | I427: Upto 1" | J427: Galvanized | K427: Field Inspection | P427: Upto 1" | Q427: =IF(OR(Table1[[#This Row],[Current Public Side SL Material ⓘ]]="",Table1[[#This Row],[Was Public SL Material Ever Previously Lead?]]="",Table1[[#This Row],[Customer SL Material ⓘ]]=""),"",IF(OR(LEFT(Table1[[#This Row],[Current Public Side SL Material ⓘ]],4)="Lead",LEFT(Table1[[#This Row],[Customer SL Material ⓘ]],4)="Lead"),"Lead",IF(LEFT(Table1[[#This Row],[Current Public Side SL Material ⓘ]],1)="U",(IF(LEFT(Table1[[#This Row],[Customer SL Material ⓘ]],1)="G","GSLRR","Unknown")),(IF(LEFT(Table1[[#This Row],[Customer SL Material ⓘ]],1)="G",(IF(Table1[[#This Row],[Was Public SL Material Ever Previously Lead?]]="No","Non-Lead","GSLRR")),IF(LEFT(Table1[[#This Row],[Customer SL Material ⓘ]],1)="U","Unknown","Non-Lead")))))) -> GSLRR
A428: 7 Patten Ave | B428: Rensselaer | C428: 12144 | D428: Unknown | E428: Unknown but could be lead | F428: Unknown | G428: Not Verified | I428: Upto 1" | J428: Copper | K428: Field Inspection | P428: Upto 1" | Q428: =IF(OR(Table1[[#This Row],[Current Public Side SL Material ⓘ]]="",Table1[[#This Row],[Was Public SL Material Ever Previously Lead?]]="",Table1[[#This Row],[Customer SL Material ⓘ]]=""),"",IF(OR(LEFT(Table1[[#This Row],[Current Public Side SL Material ⓘ]],4)="Lead",LEFT(Table1[[#This Row],[Customer SL Material ⓘ]],4)="Lead"),"Lead",IF(LEFT(Table1[[#This Row],[Current Public Side SL Material ⓘ]],1)="U",(IF(LEFT(Table1[[#This Row],[Customer SL Material ⓘ]],1)="G","GSLRR","Unknown")),(IF(LEFT(Table1[[#This Row],[Customer SL Material ⓘ]],1)="G",(IF(Table1[[#This Row],[Was Public SL Material Ever Previously Lead?]]="No","Non-Lead","GSLRR")),IF(LEFT(Table1[[#This Row],[Customer SL Material ⓘ]],1)="U","Unknown","Non-Lead")))))) -> Unknown
A429: 9 Patten Ave | B429: Rensselaer | C429: 12144 | D429: Unknown | E429: Unknown but could be lead | F429: Unknown | G429: Not Verified | I429: Upto 1" | J429: Copper | K429: Customer Identification with Photo or Other Verification | P429: Upto 1" | Q429: =IF(OR(Table1[[#This Row],[Current Public Side SL Material ⓘ]]="",Table1[[#This Row],[Was Public SL Material Ever Previously Lead?]]="",Table1[[#This Row],[Customer SL Material ⓘ]]=""),"",IF(OR(LEFT(Table1[[#This Row],[Current Public Side SL Material ⓘ]],4)="Lead",LEFT(Table1[[#This Row],[Customer SL Material ⓘ]],4)="Lead"),"Lead",IF(LEFT(Table1[[#This Row],[Current Public Side SL Material ⓘ]],1)="U",(IF(LEFT(Table1[[#This Row],[Customer SL Material ⓘ]],1)="G","GSLRR","Unknown")),(IF(LEFT(Table1[[#This Row],[Customer SL Material ⓘ]],1)="G",(IF(Table1[[#This Row],[Was Public SL Material Ever Previously Lead?]]="No","Non-Lead","GSLRR")),IF(LEFT(Table1[[#This Row],[Customer SL Material ⓘ]],1)="U","Unknown","Non-Lead")))))) -> Unknown
A430: 11 Patten Ave | B430: Rensselaer | C430: 12144 | D430: Unknown | E430: Unknown but could be lead | F430: Unknown | G430: Not Verified | I430: Upto 1" | J430: Copper | K430: Other | P430: Upto 1" | Q430: =IF(OR(Table1[[#This Row],[Current Public Side SL Material ⓘ]]="",Table1[[#This Row],[Was Public SL Material Ever Previously Lead?]]="",Table1[[#This Row],[Customer SL Material ⓘ]]=""),"",IF(OR(LEFT(Table1[[#This Row],[Current Public Side SL Material ⓘ]],4)="Lead",LEFT(Table1[[#This Row],[Customer SL Material ⓘ]],4)="Lead"),"Lead",IF(LEFT(Table1[[#This Row],[Current Public Side SL Material ⓘ]],1)="U",(IF(LEFT(Table1[[#This Row],[Customer SL Material ⓘ]],1)="G","GSLRR","Unknown")),(IF(LEFT(Table1[[#This Row],[Customer SL Material ⓘ]],1)="G",(IF(Table1[[#This Row],[Was Public SL Material Ever Previously Lead?]]="No","Non-Lead","GSLRR")),IF(LEFT(Table1[[#This Row],[Customer SL Material ⓘ]],1)="U","Unknown","Non-Lead")))))) -> Unknown
A431: 3 Lincoln Terr | B431: Rensselaer | C431: 12144 | D431: No | E431: Copper | F431: Unknown | G431: Records | I431: Upto 1" | J431: Copper | K431: Field Inspection | P431: Upto 1" | Q431: =IF(OR(Table1[[#This Row],[Current Public Side SL Material ⓘ]]="",Table1[[#This Row],[Was Public SL Material Ever Previously Lead?]]="",Table1[[#This Row],[Customer SL Material ⓘ]]=""),"",IF(OR(LEFT(Table1[[#This Row],[Current Public Side SL Material ⓘ]],4)="Lead",LEFT(Table1[[#This Row],[Customer SL Material ⓘ]],4)="Lead"),"Lead",IF(LEFT(Table1[[#This Row],[Current Public Side SL Material ⓘ]],1)="U",(IF(LEFT(Table1[[#This Row],[Customer SL Material ⓘ]],1)="G","GSLRR","Unknown")),(IF(LEFT(Table1[[#This Row],[Customer SL Material ⓘ]],1)="G",(IF(Table1[[#This Row],[Was Public SL Material Ever Previously Lead?]]="No","Non-Lead","GSLRR")),IF(LEFT(Table1[[#This Row],[Customer SL Material ⓘ]],1)="U","Unknown","Non-Lead")))))) -> Non-Lead
A432: 5 Lincoln Terr | B432: Rensselaer | C432: 12144 | D432: No | E432: Copper | F432: Unknown | G432: Records | I432: Upto 1" | J432: Copper | K432: Field Inspection | P432: Upto 1" | Q432: =IF(OR(Table1[[#This Row],[Current Public Side SL Material ⓘ]]="",Table1[[#This Row],[Was Public SL Material Ever Previously Lead?]]="",Table1[[#This Row],[Customer SL Material ⓘ]]=""),"",IF(OR(LEFT(Table1[[#This Row],[Current Public Side SL Material ⓘ]],4)="Lead",LEFT(Table1[[#This Row],[Customer SL Material ⓘ]],4)="Lead"),"Lead",IF(LEFT(Table1[[#This Row],[Current Public Side SL Material ⓘ]],1)="U",(IF(LEFT(Table1[[#This Row],[Customer SL Material ⓘ]],1)="G","GSLRR","Unknown")),(IF(LEFT(Table1[[#This Row],[Customer SL Material ⓘ]],1)="G",(IF(Table1[[#This Row],[Was Public SL Material Ever Previously Lead?]]="No","Non-Lead","GSLRR")),IF(LEFT(Table1[[#This Row],[Customer SL Material ⓘ]],1)="U","Unknown","Non-Lead")))))) -> Non-Lead
A433: 7 Lincoln Terr | B433: Rensselaer | C433: 12144 | D433: No | E433: Copper | F433: Unknown | G433: Records | I433: Upto 1" | J433: Copper | K433: Field Inspection | P433: Upto 1" | Q433: =IF(OR(Table1[[#This Row],[Current Public Side SL Material ⓘ]]="",Table1[[#This Row],[Was Public SL Material Ever Previously Lead?]]="",Table1[[#This Row],[Customer SL Material ⓘ]]=""),"",IF(OR(LEFT(Table1[[#This Row],[Current Public Side SL Material ⓘ]],4)="Lead",LEFT(Table1[[#This Row],[Customer SL Material ⓘ]],4)="Lead"),"Lead",IF(LEFT(Table1[[#This Row],[Current Public Side SL Material ⓘ]],1)="U",(IF(LEFT(Table1[[#This Row],[Customer SL Material ⓘ]],1)="G","GSLRR","Unknown")),(IF(LEFT(Table1[[#This Row],[Customer SL Material ⓘ]],1)="G",(IF(Table1[[#This Row],[Was Public SL Material Ever Previously Lead?]]="No","Non-Lead","GSLRR")),IF(LEFT(Table1[[#This Row],[Customer SL Material ⓘ]],1)="U","Unknown","Non-Lead")))))) -> Non-Lead
A434: 11 Lincoln Terr | B434: Rensselaer | C434: 12144 | D434: No | E434: Copper | F434: Unknown | G434: Field Inspection | I434: Upto 1" | J434: Copper | K434: Field Inspection | P434: Upto 1" | Q434: =IF(OR(Table1[[#This Row],[Current Public Side SL Material ⓘ]]="",Table1[[#This Row],[Was Public SL Material Ever Previously Lead?]]="",Table1[[#This Row],[Customer SL Material ⓘ]]=""),"",IF(OR(LEFT(Table1[[#This Row],[Current Public Side SL Material ⓘ]],4)="Lead",LEFT(Table1[[#This Row],[Customer SL Material ⓘ]],4)="Lead"),"Lead",IF(LEFT(Table1[[#This Row],[Current Public Side SL Material ⓘ]],1)="U",(IF(LEFT(Table1[[#This Row],[Customer SL Material ⓘ]],1)="G","GSLRR","Unknown")),(IF(LEFT(Table1[[#This Row],[Customer SL Material ⓘ]],1)="G",(IF(Table1[[#This Row],[Was Public SL Material Ever Previously Lead?]]="No","Non-Lead","GSLRR")),IF(LEFT(Table1[[#This Row],[Customer SL Material ⓘ]],1)="U","Unknown","Non-Lead")))))) -> Non-Lead
A435: 15 Lincoln Terr | B435: Rensselaer | C435: 12144 | D435: No | E435: Copper | F435: Unknown | G435: Field Inspection | I435: Upto 1" | J435: Galvanized | K435: Field Inspection | P435: Upto 1" | Q435: =IF(OR(Table1[[#This Row],[Current Public Side SL Material ⓘ]]="",Table1[[#This Row],[Was Public SL Material Ever Previously Lead?]]="",Table1[[#This Row],[Customer SL Material ⓘ]]=""),"",IF(OR(LEFT(Table1[[#This Row],[Current Public Side SL Material ⓘ]],4)="Lead",LEFT(Table1[[#This Row],[Customer SL Material ⓘ]],4)="Lead"),"Lead",IF(LEFT(Table1[[#This Row],[Current Public Side SL Material ⓘ]],1)="U",(IF(LEFT(Table1[[#This Row],[Customer SL Material ⓘ]],1)="G","GSLRR","Unknown")),(IF(LEFT(Table1[[#This Row],[Customer SL Material ⓘ]],1)="G",(IF(Table1[[#This Row],[Was Public SL Material Ever Previously Lead?]]="No","Non-Lead","GSLRR")),IF(LEFT(Table1[[#This Row],[Customer SL Material ⓘ]],1)="U","Unknown","Non-Lead")))))) -> GSLRR
A436: 17 Lincoln Terr | B436: Rensselaer | C436: 12144 | D436: No | E436: Copper | F436: Unknown | G436: Field Inspection | I436: Upto 1" | J436: Copper | K436: Other | P436: Upto 1" | Q436: =IF(OR(Table1[[#This Row],[Current Public Side SL Material ⓘ]]="",Table1[[#This Row],[Was Public SL Material Ever Previously Lead?]]="",Table1[[#This Row],[Customer SL Material ⓘ]]=""),"",IF(OR(LEFT(Table1[[#This Row],[Current Public Side SL Material ⓘ]],4)="Lead",LEFT(Table1[[#This Row],[Customer SL Material ⓘ]],4)="Lead"),"Lead",IF(LEFT(Table1[[#This Row],[Current Public Side SL Material ⓘ]],1)="U",(IF(LEFT(Table1[[#This Row],[Customer SL Material ⓘ]],1)="G","GSLRR","Unknown")),(IF(LEFT(Table1[[#This Row],[Customer SL Material ⓘ]],1)="G",(IF(Table1[[#This Row],[Was Public SL Material Ever Previously Lead?]]="No","Non-Lead","GSLRR")),IF(LEFT(Table1[[#This Row],[Customer SL Material ⓘ]],1)="U","Unknown","Non-Lead")))))) -> Non-Lead
A437: 19 Lincoln Terr | B437: Rensselaer | C437: 12144 | D437: No | E437: Copper | F437: Unknown | G437: Field Inspection | I437: Upto 1" | J437: Copper | K437: Customer Identification with Photo or Other Verification | P437: Upto 1" | Q437: =IF(OR(Table1[[#This Row],[Current Public Side SL Material ⓘ]]="",Table1[[#This Row],[Was Public SL Material Ever Previously Lead?]]="",Table1[[#This Row],[Customer SL Material ⓘ]]=""),"",IF(OR(LEFT(Table1[[#This Row],[Current Public Side SL Material ⓘ]],4)="Lead",LEFT(Table1[[#This Row],[Customer SL Material ⓘ]],4)="Lead"),"Lead",IF(LEFT(Table1[[#This Row],[Current Public Side SL Material ⓘ]],1)="U",(IF(LEFT(Table1[[#This Row],[Customer SL Material ⓘ]],1)="G","GSLRR","Unknown")),(IF(LEFT(Table1[[#This Row],[Customer SL Material ⓘ]],1)="G",(IF(Table1[[#This Row],[Was Public SL Material Ever Previously Lead?]]="No","Non-Lead","GSLRR")),IF(LEFT(Table1[[#This Row],[Customer SL Material ⓘ]],1)="U","Unknown","Non-Lead")))))) -> Non-Lead
... A440: 207 Washington Ave | B440: Rensselaer | C440: 12144 | D440: Unknown | E440: Unknown | F440: Unknown | G440: Not Verified | I440: Upto 1" | J440: Copper | K440: Field Inspection | P440: Upto 1" | Q440: =IF(OR(Table1[[#This Row],[Current Public Side SL Material ⓘ]]="",Table1[[#This Row],[Was Public SL Material Ever Previously Lead?]]="",Table1[[#This Row],[Customer SL Material ⓘ]]=""),"",IF(OR(LEFT(Table1[[#This Row],[Current Public Side SL Material ⓘ]],4)="Lead",LEFT(Table1[[#This Row],[Customer SL Material ⓘ]],4)="Lead"),"Lead",IF(LEFT(Table1[[#This Row],[Current Public Side SL Material ⓘ]],1)="U",(IF(LEFT(Table1[[#This Row],[Customer SL Material ⓘ]],1)="G","GSLRR","Unknown")),(IF(LEFT(Table1[[#This Row],[Customer SL Material ⓘ]],1)="G",(IF(Table1[[#This Row],[Was Public SL Material Ever Previously Lead?]]="No","Non-Lead","GSLRR")),IF(LEFT(Table1[[#This Row],[Customer SL Material ⓘ]],1)="U","Unknown","Non-Lead")))))) -> Unknown
A441: 6 Lincoln Terr | B441: Rensselaer | C441: 12144 | D441: No | E441: Copper | F441: Unknown | G441: Field Inspection | I441: Upto 1" | J441: Unknown | Q441: =IF(OR(Table1[[#This Row],[Current Public Side SL Material ⓘ]]="",Table1[[#This Row],[Was Public SL Material Ever Previously Lead?]]="",Table1[[#This Row],[Customer SL Material ⓘ]]=""),"",IF(OR(LEFT(Table1[[#This Row],[Current Public Side SL Material ⓘ]],4)="Lead",LEFT(Table1[[#This Row],[Customer SL Material ⓘ]],4)="Lead"),"Lead",IF(LEFT(Table1[[#This Row],[Current Public Side SL Material ⓘ]],1)="U",(IF(LEFT(Table1[[#This Row],[Customer SL Material ⓘ]],1)="G","GSLRR","Unknown")),(IF(LEFT(Table1[[#This Row],[Customer SL Material ⓘ]],1)="G",(IF(Table1[[#This Row],[Was Public SL Material Ever Previously Lead?]]="No","Non-Lead","GSLRR")),IF(LEFT(Table1[[#This Row],[Customer SL Material ⓘ]],1)="U","Unknown","Non-Lead")))))) -> Unknown
A442: 205 Washington Ave | B442: Rensselaer | C442: 12144 | D442: Unknown | E442: Unknown | F442: Unknown | G442: Not Verified | I442: Upto 1" | J442: Copper | K442: Customer Identification with Photo or Other Verification | P442: Upto 1" | Q442: =IF(OR(Table1[[#This Row],[Current Public Side SL Material ⓘ]]="",Table1[[#This Row],[Was Public SL Material Ever Previously Lead?]]="",Table1[[#This Row],[Customer SL Material ⓘ]]=""),"",IF(OR(LEFT(Table1[[#This Row],[Current Public Side SL Material ⓘ]],4)="Lead",LEFT(Table1[[#This Row],[Customer SL Material ⓘ]],4)="Lead"),"Lead",IF(LEFT(Table1[[#This Row],[Current Public Side SL Material ⓘ]],1)="U",(IF(LEFT(Table1[[#This Row],[Customer SL Material ⓘ]],1)="G","GSLRR","Unknown")),(IF(LEFT(Table1[[#This Row],[Customer SL Material ⓘ]],1)="G",(IF(Table1[[#This Row],[Was Public SL Material Ever Previously Lead?]]="No","Non-Lead","GSLRR")),IF(LEFT(Table1[[#This Row],[Customer SL Material ⓘ]],1)="U","Unknown","Non-Lead")))))) -> Unknown
A443: 203 Washington Ave | B443: Rensselaer | C443: 12144 | D443: Unknown | E443: Unknown | F443: Unknown | G443: Not Verified | I443: Upto 1" | J443: Unknown | Q443: =IF(OR(Table1[[#This Row],[Current Public Side SL Material ⓘ]]="",Table1[[#This Row],[Was Public SL Material Ever Previously Lead?]]="",Table1[[#This Row],[Customer SL Material ⓘ]]=""),"",IF(OR(LEFT(Table1[[#This Row],[Current Public Side SL Material ⓘ]],4)="Lead",LEFT(Table1[[#This Row],[Customer SL Material ⓘ]],4)="Lead"),"Lead",IF(LEFT(Table1[[#This Row],[Current Public Side SL Material ⓘ]],1)="U",(IF(LEFT(Table1[[#This Row],[Customer SL Material ⓘ]],1)="G","GSLRR","Unknown")),(IF(LEFT(Table1[[#This Row],[Customer SL Material ⓘ]],1)="G",(IF(Table1[[#This Row],[Was Public SL Material Ever Previously Lead?]]="No","Non-Lead","GSLRR")),IF(LEFT(Table1[[#This Row],[Customer SL Material ⓘ]],1)="U","Unknown","Non-Lead")))))) -> Unknown
A444: 201 Washington Ave | B444: Rensselaer | C444: 12144 | D444: Unknown | E444: Unknown | F444: Unknown | G444: Not Verified | I444: Upto 1" | J444: Copper | K444: Field Inspection | P444: Upto 1" | Q444: =IF(OR(Table1[[#This Row],[Current Public Side SL Material ⓘ]]="",Table1[[#This Row],[Was Public SL Material Ever Previously Lead?]]="",Table1[[#This Row],[Customer SL Material ⓘ]]=""),"",IF(OR(LEFT(Table1[[#This Row],[Current Public Side SL Material ⓘ]],4)="Lead",LEFT(Table1[[#This Row],[Customer SL Material ⓘ]],4)="Lead"),"Lead",IF(LEFT(Table1[[#This Row],[Current Public Side SL Material ⓘ]],1)="U",(IF(LEFT(Table1[[#This Row],[Customer SL Material ⓘ]],1)="G","GSLRR","Unknown")),(IF(LEFT(Table1[[#This Row],[Customer SL Material ⓘ]],1)="G",(IF(Table1[[#This Row],[Was Public SL Material Ever Previously Lead?]]="No","Non-Lead","GSLRR")),IF(LEFT(Table1[[#This Row],[Customer SL Material ⓘ]],1)="U","Unknown","Non-Lead")))))) -> Unknown
A445: 10 Lincoln Terr | B445: Rensselaer | C445: 12144 | D445: No | E445: Copper | F445: Unknown | G445: Records | I445: Upto 1" | J445: Copper | K445: Field Inspection | P445: Upto 1" | Q445: =IF(OR(Table1[[#This Row],[Current Public Side SL Material ⓘ]]="",Table1[[#This Row],[Was Public SL Material Ever Previously Lead?]]="",Table1[[#This Row],[Customer SL Material ⓘ]]=""),"",IF(OR(LEFT(Table1[[#This Row],[Current Public Side SL Material ⓘ]],4)="Lead",LEFT(Table1[[#This Row],[Customer SL Material ⓘ]],4)="Lead"),"Lead",IF(LEFT(Table1[[#This Row],[Current Public Side SL Material ⓘ]],1)="U",(IF(LEFT(Table1[[#This Row],[Customer SL Material ⓘ]],1)="G","GSLRR","Unknown")),(IF(LEFT(Table1[[#This Row],[Customer SL Material ⓘ]],1)="G",(IF(Table1[[#This Row],[Was Public SL Material Ever Previously Lead?]]="No","Non-Lead","GSLRR")),IF(LEFT(Table1[[#This Row],[Customer SL Material ⓘ]],1)="U","Unknown","Non-Lead")))))) -> Non-Lead
A446: 12 Lincoln Terr | B446: Rensselaer | C446: 12144 | D446: No | E446: Copper | F446: Unknown | G446: Records | I446: Upto 1" | J446: Copper | K446: Customer Identification with Photo or Other Verification | P446: Upto 1" | Q446: =IF(OR(Table1[[#This Row],[Current Public Side SL Material ⓘ]]="",Table1[[#This Row],[Was Public SL Material Ever Previously Lead?]]="",Table1[[#This Row],[Customer SL Material ⓘ]]=""),"",IF(OR(LEFT(Table1[[#This Row],[Current Public Side SL Material ⓘ]],4)="Lead",LEFT(Table1[[#This Row],[Customer SL Material ⓘ]],4)="Lead"),"Lead",IF(LEFT(Table1[[#This Row],[Current Public Side SL Material ⓘ]],1)="U",(IF(LEFT(Table1[[#This Row],[Customer SL Material ⓘ]],1)="G","GSLRR","Unknown")),(IF(LEFT(Table1[[#This Row],[Customer SL Material ⓘ]],1)="G",(IF(Table1[[#This Row],[Was Public SL Material Ever Previously Lead?]]="No","Non-Lead","GSLRR")),IF(LEFT(Table1[[#This Row],[Customer SL Material ⓘ]],1)="U","Unknown","Non-Lead")))))) -> Non-Lead
A447: 14 Lincoln Terr | B447: Rensselaer | C447: 12144 | D447: No | E447: Copper | F447: Unknown | G447: Records | I447: Upto 1" | J447: Copper | K447: Field Inspection | P447: Upto 1" | Q447: =IF(OR(Table1[[#This Row],[Current Public Side SL Material ⓘ]]="",Table1[[#This Row],[Was Public SL Material Ever Previously Lead?]]="",Table1[[#This Row],[Customer SL Material ⓘ]]=""),"",IF(OR(LEFT(Table1[[#This Row],[Current Public Side SL Material ⓘ]],4)="Lead",LEFT(Table1[[#This Row],[Customer SL Material ⓘ]],4)="Lead"),"Lead",IF(LEFT(Table1[[#This Row],[Current Public Side SL Material ⓘ]],1)="U",(IF(LEFT(Table1[[#This Row],[Customer SL Material ⓘ]],1)="G","GSLRR","Unknown")),(IF(LEFT(Table1[[#This Row],[Customer SL Material ⓘ]],1)="G",(IF(Table1[[#This Row],[Was Public SL Material Ever Previously Lead?]]="No","Non-Lead","GSLRR")),IF(LEFT(Table1[[#This Row],[Customer SL Material ⓘ]],1)="U","Unknown","Non-Lead")))))) -> Non-Lead
A448: 1 Manor Dr | B448: Rensselaer | C448: 12144 | D448: No | E448: Copper | F448: Unknown | G448: Field Inspection | I448: Upto 1" | J448: Galvanized | K448: Field Inspection | P448: Upto 1" | Q448: =IF(OR(Table1[[#This Row],[Current Public Side SL Material ⓘ]]="",Table1[[#This Row],[Was Public SL Material Ever Previously Lead?]]="",Table1[[#This Row],[Customer SL Material ⓘ]]=""),"",IF(OR(LEFT(Table1[[#This Row],[Current Public Side SL Material ⓘ]],4)="Lead",LEFT(Table1[[#This Row],[Customer SL Material ⓘ]],4)="Lead"),"Lead",IF(LEFT(Table1[[#This Row],[Current Public Side SL Material ⓘ]],1)="U",(IF(LEFT(Table1[[#This Row],[Customer SL Material ⓘ]],1)="G","GSLRR","Unknown")),(IF(LEFT(Table1[[#This Row],[Customer SL Material ⓘ]],1)="G",(IF(Table1[[#This Row],[Was Public SL Material Ever Previously Lead?]]="No","Non-Lead","GSLRR")),IF(LEFT(Table1[[#This Row],[Customer SL Material ⓘ]],1)="U","Unknown","Non-Lead")))))) -> GSLRR
A449: 215 Washington Ave | B449: Rensselaer | C449: 12144 | D449: Unknown | E449: Unknown | F449: Unknown | G449: Not Verified | I449: Upto 1" | J449: Copper | K449: Field Inspection | P449: Upto 1" | Q449: =IF(OR(Table1[[#This Row],[Current Public Side SL Material ⓘ]]="",Table1[[#This Row],[Was Public SL Material Ever Previously Lead?]]="",Table1[[#This Row],[Customer SL Material ⓘ]]=""),"",IF(OR(LEFT(Table1[[#This Row],[Current Public Side SL Material ⓘ]],4)="Lead",LEFT(Table1[[#This Row],[Customer SL Material ⓘ]],4)="Lead"),"Lead",IF(LEFT(Table1[[#This Row],[Current Public Side SL Material ⓘ]],1)="U",(IF(LEFT(Table1[[#This Row],[Customer SL Material ⓘ]],1)="G","GSLRR","Unknown")),(IF(LEFT(Table1[[#This Row],[Customer SL Material ⓘ]],1)="G",(IF(Table1[[#This Row],[Was Public SL Material Ever Previously Lead?]]="No","Non-Lead","GSLRR")),IF(LEFT(Table1[[#This Row],[Customer SL Material ⓘ]],1)="U","Unknown","Non-Lead")))))) -> Unknown
A450: 213 Washington Ave | B450: Rensselaer | C450: 12144 | D450: Unknown | E450: Unknown | F450: Unknown | G450: Not Verified | I450: Upto 1" | J450: Copper | K450: Field Inspection | P450: Upto 1" | Q450: =IF(OR(Table1[[#This Row],[Current Public Side SL Material ⓘ]]="",Table1[[#This Row],[Was Public SL Material Ever Previously Lead?]]="",Table1[[#This Row],[Customer SL Material ⓘ]]=""),"",IF(OR(LEFT(Table1[[#This Row],[Current Public Side SL Material ⓘ]],4)="Lead",LEFT(Table1[[#This Row],[Customer SL Material ⓘ]],4)="Lead"),"Lead",IF(LEFT(Table1[[#This Row],[Current Public Side SL Material ⓘ]],1)="U",(IF(LEFT(Table1[[#This Row],[Customer SL Material ⓘ]],1)="G","GSLRR","Unknown")),(IF(LEFT(Table1[[#This Row],[Customer SL Material ⓘ]],1)="G",(IF(Table1[[#This Row],[Was Public SL Material Ever Previously Lead?]]="No","Non-Lead","GSLRR")),IF(LEFT(Table1[[#This Row],[Customer SL Material ⓘ]],1)="U","Unknown","Non-Lead")))))) -> Unknown
A451: 211 Washington Ave | B451: Rensselaer | C451: 12144 | D451: Unknown | E451: Unknown | F451: Unknown | G451: Not Verified | I451: Upto 1" | J451: Copper | K451: Field Inspection | P451: Upto 1" | Q451: =IF(OR(Table1[[#This Row],[Current Public Side SL Material ⓘ]]="",Table1[[#This Row],[Was Public SL Material Ever Previously Lead?]]="",Table1[[#This Row],[Customer SL Material ⓘ]]=""),"",IF(OR(LEFT(Table1[[#This Row],[Current Public Side SL Material ⓘ]],4)="Lead",LEFT(Table1[[#This Row],[Customer SL Material ⓘ]],4)="Lead"),"Lead",IF(LEFT(Table1[[#This Row],[Current Public Side SL Material ⓘ]],1)="U",(IF(LEFT(Table1[[#This Row],[Customer SL Material ⓘ]],1)="G","GSLRR","Unknown")),(IF(LEFT(Table1[[#This Row],[Customer SL Material ⓘ]],1)="G",(IF(Table1[[#This Row],[Was Public SL Material Ever Previously Lead?]]="No","Non-Lead","GSLRR")),IF(LEFT(Table1[[#This Row],[Customer SL Material ⓘ]],1)="U","Unknown","Non-Lead")))))) -> Unknown
A452: 209 Washington Ave | B452: Rensselaer | C452: 12144 | D452: No | E452: Copper | F452: Unknown | G452: Field Inspection | I452: Upto 1" | J452: Lead including lead-lined galvanized | K452: Field Inspection | P452: Upto 1" | Q452: =IF(OR(Table1[[#This Row],[Current Public Side SL Material ⓘ]]="",Table1[[#This Row],[Was Public SL Material Ever Previously Lead?]]="",Table1[[#This Row],[Customer SL Material ⓘ]]=""),"",IF(OR(LEFT(Table1[[#This Row],[Current Public Side SL Material ⓘ]],4)="Lead",LEFT(Table1[[#This Row],[Customer SL Material ⓘ]],4)="Lead"),"Lead",IF(LEFT(Table1[[#This Row],[Current Public Side SL Material ⓘ]],1)="U",(IF(LEFT(Table1[[#This Row],[Customer SL Material ⓘ]],1)="G","GSLRR","Unknown")),(IF(LEFT(Table1[[#This Row],[Customer SL Material ⓘ]],1)="G",(IF(Table1[[#This Row],[Was Public SL Material Ever Previously Lead?]]="No","Non-Lead","GSLRR")),IF(LEFT(Table1[[#This Row],[Customer SL Material ⓘ]],1)="U","Unknown","Non-Lead")))))) -> Lead
A453: 301 Washington Ave | B453: Rensselaer | C453: 12144 | D453: Unknown | E453: Unknown | F453: Unknown | G453: Not Verified | I453: Upto 1" | J453: Copper | K453: Field Inspection | P453: Upto 1" | Q453: =IF(OR(Table1[[#This Row],[Current Public Side SL Material ⓘ]]="",Table1[[#This Row],[Was Public SL Material Ever Previously Lead?]]="",Table1[[#This Row],[Customer SL Material ⓘ]]=""),"",IF(OR(LEFT(Table1[[#This Row],[Current Public Side SL Material ⓘ]],4)="Lead",LEFT(Table1[[#This Row],[Customer SL Material ⓘ]],4)="Lead"),"Lead",IF(LEFT(Table1[[#This Row],[Current Public Side SL Material ⓘ]],1)="U",(IF(LEFT(Table1[[#This Row],[Customer SL Material ⓘ]],1)="G","GSLRR","Unknown")),(IF(LEFT(Table1[[#This Row],[Customer SL Material ⓘ]],1)="G",(IF(Table1[[#This Row],[Was Public SL Material Ever Previously Lead?]]="No","Non-Lead","GSLRR")),IF(LEFT(Table1[[#This Row],[Customer SL Material ⓘ]],1)="U","Unknown","Non-Lead")))))) -> Unknown
...

Sheet lead lines 40 housed
A1: 91 Washington Ave | B1: Lead | D1: 2015 Ninth St | E1: Lead
A2: 1902 Seventh St | B2: Lead | D2: 1615 Fourth St | E2: Lead
A3: 2026 Eighth St | B3: Lead | D3: 2 Fourth Ave | E3: Lead
A4: 2011 Ninth St | B4: Lead | D4: 418 East St | E4: Lead
A5: 408 Washington Ave | B5: Lead | D5: 21 Elm St | E5: Lead
A6: 516 Washington Ave | B6: Lead | D6: 71 Broadway | E6: Lead
A7: 1736 Fourth St | B7: Lead | D7: 111 Third Ave | E7: Lead
A8: 1987 Tenth St | B8: Lead | D8: 118 Second Ave | E8: Lead
A9: 24 Elmhurst Ave | B9: Lead | D9: 1139 Broadway | E9: Lead
A10: 528 East St | B10: Lead | D10: 38 Pine St | E10: Lead
A11: 52 Green St | B11: Lead | D11: 1017 Second St | E11: Lead
A12: 89 Third Ave | B12: Lead | D12: 14 Summit St | E12: Lead
... A34: 1010 Third St | B34: Lead | D34: 1633 Broadway | E34: galv
A35: 56 Partition St | B35: Lead
A36: 900 Third St | B36: Lead
A37: 51 Harrison Ave | B37: Lead
A38: 89 Partition St | B38: Lead
A39: 820 Fourth St | B39: Lead
A40: 840 Second St | B40: Lead
A41: 836 Second St | B41: Lead
A42: 92 Lakeview Ave | B42: Lead

Sheet Inventory Summary
A1: Summary of Lead Service Line Inventory
A2: I. System Information
A3: Water System Name | B3: City of Rensselaer
A4: PWS ID Number | B4: NY4100044
A6: II. Contact Information for Owner / Licensed Operator of Record Completing the Form
A7: Contact Name | C7: Fran Welsh
A8: Contact Phone Number | C8: 518 462-6466 #2
A9: Contact Email Address | C9: Fran.Welsh@rensselaerny.gov
A11: III. Summary of Inventory
A12: Total Number of Service Lines in the Distribution System | G12: =G13+G17 -> 2711
A13: Total Number of Identified Service Lines | G13: =SUM(G14:I16) -> 1538
A14: Total Number of Lead Service Lines | G14: =COUNTIF('Service Line Inventory Template'!$Q$2:$Q$20004,"Lead") -> 68
A15: Total Number of GSLRR | G15: =COUNTIF('Service Line Inventory Template'!$Q$2:$Q$20004,"GSLRR") -> 192
A16: Total Number of Non-LSL | G16: =COUNTIF('Service Line Inventory Template'!$Q$2:$Q$20004,"Non-Lead") -> 1278
A17: Total Number of Unknown Service Lines | G17: =COUNTIF('Service Line Inventory Template'!$Q$2:$Q$20004,"Unknown") -> 1173
A19: Service Lines | C19: Lead | D19: GSL or GSLRR | F19: Non-Lead | H19: Unknown
A20: PWS - Side Service Lines | C20: =COUNTIF(Table1[Current Public Side SL Material ⓘ],"Lead*") -> 10 | D20: =COUNTIF(Table1[Current Public Side SL Material ⓘ],"Galvanized*") -> 41 | E20: GSL | F20: =COUNTIF(Table1[Current Public Side SL Material ⓘ],"C*")+COUNTIF(Table1[Current Public Side SL Material ⓘ],"P*")+COUNTIF(Table1[Current Public Side SL Material ⓘ],"K*") -> 1602 | H20: =COUNTIF(Table1[Current Public Side SL Material ⓘ],"U*") -> 1064
A21: Customer - Side Service Lines | C21: =COUNTIF(Table1[Customer SL Material ⓘ],"Lead*") -> 61 | D21: =COUNTIF(Table1[Customer SL Material ⓘ],"Galvanized*") -> 194 | E21: GSL | F21: =COUNTIF(Table1[Customer SL Material ⓘ],"C*")+COUNTIF(Table1[Customer SL Material ⓘ],"P*")+COUNTIF(Table1[Customer SL Material ⓘ],"K*") -> 1947 | H21: =COUNTIF(Table1[Customer SL Material ⓘ],"U*") -> 514
A22: Total Number of Service Lines in the Distribution System | C22: =COUNTIF(Table1[SL Category ⓘ],"Lead") -> 68 | D22: =COUNTIF(Table1[SL Category ⓘ],"GSLRR") -> 192 | E22: GSLRR | F22: =COUNTIF(Table1[SL Category ⓘ],"Non-Lead") -> 1278 | H22: =COUNTIF(Table1[SL Category ⓘ],"Unknown") -> 1173
A24: Service Line Identification Methods
A25: Identification Methods | E25: PWS- Side SLs | G25: Customer-Side SLs
A26: Historical Records | E26: =COUNTIF('Service Line Inventory Template'!G2:G20004,"Records") -> 1482 | G26: =COUNTIF('Service Line Inventory Template'!K2:K20004,"Records") -> 387
A27: Field Inspection | E27: =COUNTIF('Service Line Inventory Template'!G2:G20004,"Field Inspection") -> 102 | G27: =COUNTIF('Service Line Inventory Template'!K2:K20004,A27) -> 1253
A28: Customer Identification with Photo or other Verification | E28: NA | G28: =COUNTIF('Service Line Inventory Template'!K2:K20004,A28) -> 355
A29: Excavation | E29: =COUNTIF('Service Line Inventory Template'!$G$2:$G$20004,A29) -> 52 | G29: =COUNTIF('Service Line Inventory Template'!K2:K20004,A29) -> 0
A30: Sequential Sampling | E30: =COUNTIF('Service Line Inventory Template'!$G$2:$G$20004,A30) -> 0 | G30: =COUNTIF('Service Line Inventory Template'!K2:K20004,A30) -> 0
A31: Statistical Analysis/Predictive Model | E31: =COUNTIF('Service Line Inventory Template'!$G$2:$G$20004,A31) -> 31 | G31: =COUNTIF('Service Line Inventory Template'!K2:K20004,A31) -> 18
A33: IV. Inventory Availability - The inventory must be available to public
A34: If 50,000 customers or greater: Posting the inventory online water system's website. | E34: Address:
A35: If under 50,000 customers: Explain how to access the inventory
A37: V. Certifications
A38: By submitting this form, I have verified and certify the information listed in this form is true and accurate to the best of my knowledge and belief.
A42: Fran Welsh | D42: Deputy Commissioner of Water | I42: 10.16.24
B43: Name | F43: Title | I43: Date
